BEGIN:VCALENDAR
VERSION:2.0
PRODID:-//World Bible School - ECPv6.15.20//NONSGML v1.0//EN
CALSCALE:GREGORIAN
METHOD:PUBLISH
X-WR-CALNAME:World Bible School
X-ORIGINAL-URL:https://www.worldbibleschool.net
X-WR-CALDESC:Events for World Bible School
REFRESH-INTERVAL;VALUE=DURATION:PT1H
X-Robots-Tag:noindex
X-PUBLISHED-TTL:PT1H
BEGIN:VTIMEZONE
TZID:America/Chicago
BEGIN:DAYLIGHT
TZOFFSETFROM:-0600
TZOFFSETTO:-0500
TZNAME:CDT
DTSTART:20200308T080000
END:DAYLIGHT
BEGIN:STANDARD
TZOFFSETFROM:-0500
TZOFFSETTO:-0600
TZNAME:CST
DTSTART:20201101T070000
END:STANDARD
BEGIN:DAYLIGHT
TZOFFSETFROM:-0600
TZOFFSETTO:-0500
TZNAME:CDT
DTSTART:20210314T080000
END:DAYLIGHT
BEGIN:STANDARD
TZOFFSETFROM:-0500
TZOFFSETTO:-0600
TZNAME:CST
DTSTART:20211107T070000
END:STANDARD
BEGIN:DAYLIGHT
TZOFFSETFROM:-0600
TZOFFSETTO:-0500
TZNAME:CDT
DTSTART:20220313T080000
END:DAYLIGHT
BEGIN:STANDARD
TZOFFSETFROM:-0500
TZOFFSETTO:-0600
TZNAME:CST
DTSTART:20221106T070000
END:STANDARD
BEGIN:DAYLIGHT
TZOFFSETFROM:-0600
TZOFFSETTO:-0500
TZNAME:CDT
DTSTART:20230312T080000
END:DAYLIGHT
BEGIN:STANDARD
TZOFFSETFROM:-0500
TZOFFSETTO:-0600
TZNAME:CST
DTSTART:20231105T070000
END:STANDARD
END:VTIMEZONE
BEGIN:VTIMEZONE
TZID:America/New_York
BEGIN:DAYLIGHT
TZOFFSETFROM:-0500
TZOFFSETTO:-0400
TZNAME:EDT
DTSTART:20200308T070000
END:DAYLIGHT
BEGIN:STANDARD
TZOFFSETFROM:-0400
TZOFFSETTO:-0500
TZNAME:EST
DTSTART:20201101T060000
END:STANDARD
BEGIN:DAYLIGHT
TZOFFSETFROM:-0500
TZOFFSETTO:-0400
TZNAME:EDT
DTSTART:20210314T070000
END:DAYLIGHT
BEGIN:STANDARD
TZOFFSETFROM:-0400
TZOFFSETTO:-0500
TZNAME:EST
DTSTART:20211107T060000
END:STANDARD
BEGIN:DAYLIGHT
TZOFFSETFROM:-0500
TZOFFSETTO:-0400
TZNAME:EDT
DTSTART:20220313T070000
END:DAYLIGHT
BEGIN:STANDARD
TZOFFSETFROM:-0400
TZOFFSETTO:-0500
TZNAME:EST
DTSTART:20221106T060000
END:STANDARD
BEGIN:DAYLIGHT
TZOFFSETFROM:-0500
TZOFFSETTO:-0400
TZNAME:EDT
DTSTART:20230312T070000
END:DAYLIGHT
BEGIN:STANDARD
TZOFFSETFROM:-0400
TZOFFSETTO:-0500
TZNAME:EST
DTSTART:20231105T060000
END:STANDARD
END:VTIMEZONE
BEGIN:VTIMEZONE
TZID:America/Los_Angeles
BEGIN:DAYLIGHT
TZOFFSETFROM:-0800
TZOFFSETTO:-0700
TZNAME:PDT
DTSTART:20200308T100000
END:DAYLIGHT
BEGIN:STANDARD
TZOFFSETFROM:-0700
TZOFFSETTO:-0800
TZNAME:PST
DTSTART:20201101T090000
END:STANDARD
BEGIN:DAYLIGHT
TZOFFSETFROM:-0800
TZOFFSETTO:-0700
TZNAME:PDT
DTSTART:20210314T100000
END:DAYLIGHT
BEGIN:STANDARD
TZOFFSETFROM:-0700
TZOFFSETTO:-0800
TZNAME:PST
DTSTART:20211107T090000
END:STANDARD
BEGIN:DAYLIGHT
TZOFFSETFROM:-0800
TZOFFSETTO:-0700
TZNAME:PDT
DTSTART:20220313T100000
END:DAYLIGHT
BEGIN:STANDARD
TZOFFSETFROM:-0700
TZOFFSETTO:-0800
TZNAME:PST
DTSTART:20221106T090000
END:STANDARD
END:VTIMEZONE
BEGIN:VEVENT
DTSTART;TZID=America/Chicago:20220213T130000
DTEND;TZID=America/Chicago:20220213T140000
DTSTAMP:20260421T002843
CREATED:20220202T153645Z
LAST-MODIFIED:20220202T153645Z
UID:30093-1644757200-1644760800@www.worldbibleschool.net
SUMMARY:WBS Presentation in Eldridge\, AL
DESCRIPTION:
URL:https://www.worldbibleschool.net/eventdetail/wbs-presentation-in-eldridge-al/
LOCATION:Eldridge church of Christ\, 54104 AL-13\, Eldridge\, AL\, 35554\, United States
CATEGORIES:WBS Presentation
ATTACH;FMTTYPE=image/jpeg:https://www.worldbibleschool.net/wp-content/uploads/2022/02/Eldridge.jpg
END:VEVENT
BEGIN:VEVENT
DTSTART;TZID=America/Chicago:20220213T090000
DTEND;TZID=America/Chicago:20220213T140000
DTSTAMP:20260421T002843
CREATED:20220119T190520Z
LAST-MODIFIED:20220119T190520Z
UID:30011-1644742800-1644760800@www.worldbibleschool.net
SUMMARY:WBS Class\, Presentation & Seminar in Abilene\, TX
DESCRIPTION:
URL:https://www.worldbibleschool.net/eventdetail/wbs-class-presentation-seminar-in-abilene-tx/
LOCATION:Baker Heights church of Christ\, 5382 Texas Ave\, Abilene\, TX\, 79605\, United States
CATEGORIES:WBS Class,WBS Presentation,WBS Seminar
ATTACH;FMTTYPE=image/jpeg:https://www.worldbibleschool.net/wp-content/uploads/2022/01/BakerHeights.jpg
END:VEVENT
BEGIN:VEVENT
DTSTART;TZID=America/Chicago:20220206T100000
DTEND;TZID=America/Chicago:20220206T130000
DTSTAMP:20260421T002843
CREATED:20220127T182138Z
LAST-MODIFIED:20220202T152316Z
UID:30060-1644141600-1644152400@www.worldbibleschool.net
SUMMARY:WBS Presentation & Lunch Seminar in Matador\, TX
DESCRIPTION:
URL:https://www.worldbibleschool.net/eventdetail/wbs-presentation-in-matador-tx/
LOCATION:Matador church of Christ\, 1213 Scotch St\, Matador\, TX\, 79244\, United States
CATEGORIES:WBS Presentation,WBS Seminar
ATTACH;FMTTYPE=image/jpeg:https://www.worldbibleschool.net/wp-content/uploads/2022/01/Matador.jpg
END:VEVENT
BEGIN:VEVENT
DTSTART;TZID=America/New_York:20220130T100000
DTEND;TZID=America/New_York:20220130T120000
DTSTAMP:20260421T002843
CREATED:20220119T185926Z
LAST-MODIFIED:20220119T185926Z
UID:30007-1643536800-1643544000@www.worldbibleschool.net
SUMMARY:WBS Presentation & Sermon in Loveland\, OH
DESCRIPTION:
URL:https://www.worldbibleschool.net/eventdetail/wbs-presentation-sermon-in-loveland-oh/
LOCATION:Loveland Heights church of Christ\, 1566 W Loveland Ave\, Loveland\, OH\, 45140\, United States
CATEGORIES:WBS Presentation
ATTACH;FMTTYPE=image/jpeg:https://www.worldbibleschool.net/wp-content/uploads/2022/01/Loveland-Heights.jpg
END:VEVENT
BEGIN:VEVENT
DTSTART;VALUE=DATE:20220128
DTEND;VALUE=DATE:20220130
DTSTAMP:20260421T002843
CREATED:20220119T185157Z
LAST-MODIFIED:20220119T185157Z
UID:30002-1643328000-1643500799@www.worldbibleschool.net
SUMMARY:WBS Display @ Winter Lectures in Columbus\, OH
DESCRIPTION:
URL:https://www.worldbibleschool.net/eventdetail/wbs-display-winter-lectures-in-columbus-oh/
LOCATION:Fishinger & Kenny church of Christ\, 1130 Fishinger Road\, Columbus\, OH\, 43221\, United States
CATEGORIES:WBS Display
ATTACH;FMTTYPE=image/jpeg:https://www.worldbibleschool.net/wp-content/uploads/2022/01/Fishinger-Kenny.jpg
END:VEVENT
BEGIN:VEVENT
DTSTART;TZID=America/Los_Angeles:20211205T100000
DTEND;TZID=America/Los_Angeles:20211205T110000
DTSTAMP:20260421T002843
CREATED:20210909T154834Z
LAST-MODIFIED:20210909T155317Z
UID:29435-1638698400-1638702000@www.worldbibleschool.net
SUMMARY:WBS Presentation in Molalla\, OR
DESCRIPTION:
URL:https://www.worldbibleschool.net/eventdetail/wbs-presentation-in-molalla-or/
LOCATION:Molalla church of Christ\, 136 Fenton Ave\, Molalla\, OR\, 97038\, United States
CATEGORIES:WBS Presentation
ATTACH;FMTTYPE=image/jpeg:https://www.worldbibleschool.net/wp-content/uploads/2021/09/Mololla.jpg
END:VEVENT
BEGIN:VEVENT
DTSTART;TZID=America/Chicago:20211205T093000
DTEND;TZID=America/Chicago:20211205T140000
DTSTAMP:20260421T002843
CREATED:20211103T211952Z
LAST-MODIFIED:20211103T211952Z
UID:29683-1638696600-1638712800@www.worldbibleschool.net
SUMMARY:WBS Class & Workshop in Pleasanton\, TX
DESCRIPTION:9:30 – Class – overview of WBS\n10:30 – Worship – evangelistic message\n1:00 – World Bible School Workshop
URL:https://www.worldbibleschool.net/eventdetail/wbs-class-workshop-in-pleasanton-tx/
LOCATION:Pleasanton church of Christ\, 1003 North Main Street\, Pleasanton\, TX\, 78064\, United States
CATEGORIES:WBS Class,WBS Presentation,WBS Seminar
ATTACH;FMTTYPE=image/jpeg:https://www.worldbibleschool.net/wp-content/uploads/2021/11/Pleasanton.jpg
END:VEVENT
BEGIN:VEVENT
DTSTART;TZID=America/Chicago:20211201T190000
DTEND;TZID=America/Chicago:20211201T200000
DTSTAMP:20260421T002843
CREATED:20211124T142345Z
LAST-MODIFIED:20211124T142345Z
UID:29780-1638385200-1638388800@www.worldbibleschool.net
SUMMARY:WBS Presentation in Centerville\, TN
DESCRIPTION:
URL:https://www.worldbibleschool.net/eventdetail/wbs-presentation-in-centerville-tn/
LOCATION:Fairfield church of Christ\, 1860 TN-100\, Centerville\, TN\, 37033\, United States
CATEGORIES:WBS Presentation
ATTACH;FMTTYPE=image/jpeg:https://www.worldbibleschool.net/wp-content/uploads/2021/11/Fairfield.jpg
END:VEVENT
BEGIN:VEVENT
DTSTART;TZID=America/Chicago:20211121T180000
DTEND;TZID=America/Chicago:20211121T190000
DTSTAMP:20260421T002843
CREATED:20211103T144335Z
LAST-MODIFIED:20211103T145031Z
UID:29666-1637517600-1637521200@www.worldbibleschool.net
SUMMARY:Presentation in Russellville\, KY
DESCRIPTION:
URL:https://www.worldbibleschool.net/eventdetail/presentation-in-russellville-ky/
LOCATION:Crittenden Drive church of Christ\, 620 Crittenden Dr\, Russellville\, KY\, 42276\, United States
CATEGORIES:WBS Presentation
ATTACH;FMTTYPE=image/jpeg:https://www.worldbibleschool.net/wp-content/uploads/2021/11/Crittenden-Drive.jpg
END:VEVENT
BEGIN:VEVENT
DTSTART;TZID=America/Chicago:20211114T093000
DTEND;TZID=America/Chicago:20211114T103000
DTSTAMP:20260421T002843
CREATED:20211103T135700Z
LAST-MODIFIED:20211103T135700Z
UID:29662-1636882200-1636885800@www.worldbibleschool.net
SUMMARY:WBS Presentation in Adairville\, KY
DESCRIPTION:
URL:https://www.worldbibleschool.net/eventdetail/wbs-presentation-in-adairville-ky/
LOCATION:Adairville church of Christ\, 617 N Main St\, Adairville\, KY\, 42122\, United States
CATEGORIES:WBS Presentation
ATTACH;FMTTYPE=image/jpeg:https://www.worldbibleschool.net/wp-content/uploads/2021/11/Adairville.jpg
END:VEVENT
BEGIN:VEVENT
DTSTART;TZID=America/Chicago:20211110T190000
DTEND;TZID=America/Chicago:20211110T200000
DTSTAMP:20260421T002843
CREATED:20211014T202342Z
LAST-MODIFIED:20211103T134547Z
UID:29592-1636570800-1636574400@www.worldbibleschool.net
SUMMARY:WBS Presentation in College Grove\, TN
DESCRIPTION:
URL:https://www.worldbibleschool.net/eventdetail/wbs-presentation-in-college-grove-tn/
LOCATION:Allisona church of Christ\, 6996 Old Arno Allisona Rd\, College Grove\, TN\, 37046\, United States
CATEGORIES:WBS Presentation
ATTACH;FMTTYPE=image/jpeg:https://www.worldbibleschool.net/wp-content/uploads/2021/10/Allisona.jpg
END:VEVENT
BEGIN:VEVENT
DTSTART;TZID=America/Chicago:20211109T183000
DTEND;TZID=America/Chicago:20211109T203000
DTSTAMP:20260421T002843
CREATED:20210811T145152Z
LAST-MODIFIED:20210929T170734Z
UID:29218-1636482600-1636489800@www.worldbibleschool.net
SUMMARY:Austin Dinner - In Person & Virtual
DESCRIPTION:Speaker: Truitt Adair of Lubbock\, TX\nPlease RSVP by October 25\nVisit worldbibleschool.net/austin2021 to RSVP
URL:https://www.worldbibleschool.net/eventdetail/austin-dinner-in-person-virtual/
LOCATION:Westside church of Christ\, 3300 Ranch Road 1431\, Round Rock\, TX\, 78681\, United States
CATEGORIES:WBS Dinner
ATTACH;FMTTYPE=image/jpeg:https://www.worldbibleschool.net/wp-content/uploads/2021/08/westside-church-of-christ.jpg
ORGANIZER;CN="Sheryl Williams":MAILTO:rsvp@worldbibleschool.net
END:VEVENT
BEGIN:VEVENT
DTSTART;TZID=America/Chicago:20211107T101500
DTEND;TZID=America/Chicago:20211107T110000
DTSTAMP:20260421T002843
CREATED:20211103T135223Z
LAST-MODIFIED:20211103T135223Z
UID:29659-1636280100-1636282800@www.worldbibleschool.net
SUMMARY:WBS Presentation in Alvaton\, KY
DESCRIPTION:
URL:https://www.worldbibleschool.net/eventdetail/wbs-presentation-in-alvaton-ky/
LOCATION:Alvaton church of Christ\, 10134 Alvaton Rd\, Alvaton\, KY\, 42122\, United States
CATEGORIES:WBS Presentation
ATTACH;FMTTYPE=image/jpeg:https://www.worldbibleschool.net/wp-content/uploads/2021/11/Alvaton.jpg
END:VEVENT
BEGIN:VEVENT
DTSTART;TZID=America/Chicago:20211107T100000
DTEND;TZID=America/Chicago:20211107T110000
DTSTAMP:20260421T002843
CREATED:20210911T002216Z
LAST-MODIFIED:20211004T153130Z
UID:29443-1636279200-1636282800@www.worldbibleschool.net
SUMMARY:WBS Presentation in Clarksville\, TN
DESCRIPTION:
URL:https://www.worldbibleschool.net/eventdetail/wbs-presentation-in-clarksville-tn-2/
LOCATION:church of Christ at Trenton Crossing\, 2650 Trenton Rd\, Clarksville\, TN\, 27040\, United States
CATEGORIES:WBS Presentation
ATTACH;FMTTYPE=image/jpeg:https://www.worldbibleschool.net/wp-content/uploads/2021/09/TrentonCrossing.jpg
END:VEVENT
BEGIN:VEVENT
DTSTART;VALUE=DATE:20211024
DTEND;VALUE=DATE:20211029
DTSTAMP:20260421T002843
CREATED:20210929T154045Z
LAST-MODIFIED:20210929T154045Z
UID:29529-1635033600-1635465599@www.worldbibleschool.net
SUMMARY:WBS Display in Moundsville\, WV
DESCRIPTION:
URL:https://www.worldbibleschool.net/eventdetail/wbs-display-in-moundsville-wv/
LOCATION:West Virginia School of Preaching Lectures\, Fourth Street & Willard Avenue\, Moundsville\, WV\, 26041\, United States
CATEGORIES:WBS Display
ATTACH;FMTTYPE=image/jpeg:https://www.worldbibleschool.net/wp-content/uploads/2021/09/WVSchoolofPreaching.jpg
END:VEVENT
BEGIN:VEVENT
DTSTART;TZID=America/Chicago:20211017T100000
DTEND;TZID=America/Chicago:20211017T110000
DTSTAMP:20260421T002843
CREATED:20210915T190805Z
LAST-MODIFIED:20210915T190805Z
UID:29463-1634464800-1634468400@www.worldbibleschool.net
SUMMARY:WBS Presentation in Jay\, OK
DESCRIPTION:
URL:https://www.worldbibleschool.net/eventdetail/wbs-presentation-in-jay-ok/
LOCATION:Southside church of Christ\, 1506 US-59\, Jay\, OK\, 74346\, United States
CATEGORIES:WBS Presentation
ATTACH;FMTTYPE=image/jpeg:https://www.worldbibleschool.net/wp-content/uploads/2021/09/Southside.jpg
END:VEVENT
BEGIN:VEVENT
DTSTART;TZID=America/Chicago:20211010T170000
DTEND;TZID=America/Chicago:20211010T180000
DTSTAMP:20260421T002843
CREATED:20210922T194014Z
LAST-MODIFIED:20210922T194014Z
UID:29499-1633885200-1633888800@www.worldbibleschool.net
SUMMARY:WBS Presentation in Hattiesburg\, MS
DESCRIPTION:
URL:https://www.worldbibleschool.net/eventdetail/wbs-presentation-in-hattiesburg-ms-2/
LOCATION:Kensington Woods church of Christ\, 145 40th Ave\, Hattiesburg\, MS\, 39402\, United States
CATEGORIES:WBS Presentation
ATTACH;FMTTYPE=image/jpeg:https://www.worldbibleschool.net/wp-content/uploads/2021/09/Kensington.jpg
END:VEVENT
BEGIN:VEVENT
DTSTART;TZID=America/New_York:20211010T110000
DTEND;TZID=America/New_York:20211010T120000
DTSTAMP:20260421T002843
CREATED:20210929T163101Z
LAST-MODIFIED:20210929T163101Z
UID:29537-1633863600-1633867200@www.worldbibleschool.net
SUMMARY:WBS Display & Presentation in Parkersburg\, WV
DESCRIPTION:WBS Display on Oct 9 – Bible Bowl\nWBS Presentation on Oct 10 at 11:00 am
URL:https://www.worldbibleschool.net/eventdetail/wbs-display-presentation-in-parkersburg-wv/
LOCATION:Camden Avenue church of Christ\, 2900 Camden Avenue\, Parkersburg\, 26101\, United States
CATEGORIES:WBS Display,WBS Presentation
ATTACH;FMTTYPE=image/jpeg:https://www.worldbibleschool.net/wp-content/uploads/2021/09/Parkersburg.jpg
END:VEVENT
BEGIN:VEVENT
DTSTART;TZID=America/Chicago:20211010T093000
DTEND;TZID=America/Chicago:20211010T103000
DTSTAMP:20260421T002843
CREATED:20210825T133910Z
LAST-MODIFIED:20210825T133934Z
UID:29357-1633858200-1633861800@www.worldbibleschool.net
SUMMARY:WBS Presentation in Mena\, AR
DESCRIPTION:
URL:https://www.worldbibleschool.net/eventdetail/wbs-presentation-in-mena-ar/
LOCATION:Northside church of Christ\, 917 N. East Street\, Benton\, TX\, 72015\, United States
CATEGORIES:WBS Presentation
ATTACH;FMTTYPE=image/jpeg:https://www.worldbibleschool.net/wp-content/uploads/2021/08/Northside_MenaAR.jpg
END:VEVENT
BEGIN:VEVENT
DTSTART;TZID=America/Chicago:20211010T090000
DTEND;TZID=America/Chicago:20211010T100000
DTSTAMP:20260421T002843
CREATED:20210922T193236Z
LAST-MODIFIED:20210922T193236Z
UID:29495-1633856400-1633860000@www.worldbibleschool.net
SUMMARY:WBS Presentation in Hattiesburg\, MS
DESCRIPTION:
URL:https://www.worldbibleschool.net/eventdetail/wbs-presentation-in-hattiesburg-ms/
LOCATION:Hattisburg church of Christ\, 154 King Rd\, Hattiesburg\, MS\, 39402\, United States
CATEGORIES:WBS Presentation
ATTACH;FMTTYPE=image/jpeg:https://www.worldbibleschool.net/wp-content/uploads/2021/09/Hattiesburg.jpg
END:VEVENT
BEGIN:VEVENT
DTSTART;TZID=America/Chicago:20211007T183000
DTEND;TZID=America/Chicago:20211007T203000
DTSTAMP:20260421T002843
CREATED:20210811T144534Z
LAST-MODIFIED:20210813T161752Z
UID:29214-1633631400-1633638600@www.worldbibleschool.net
SUMMARY:Nashville Dinner
DESCRIPTION:Speaker: David Burks of Searcy\, AR\nVisit worldbibleschool.net/nashville2021 to RSVP.
URL:https://www.worldbibleschool.net/eventdetail/nashville-dinner/
LOCATION:Sonesta Nashville Airport Hotel (Cumberland Ballroom)\, 600 Marriott Drive\, Nashville\, TN\, 37214\, United States
CATEGORIES:WBS Dinner
ATTACH;FMTTYPE=image/jpeg:https://www.worldbibleschool.net/wp-content/uploads/2021/08/Sonesta.jpg
ORGANIZER;CN="Sheryl Williams":MAILTO:rsvp@worldbibleschool.net
END:VEVENT
BEGIN:VEVENT
DTSTART;TZID=America/New_York:20211003T180000
DTEND;TZID=America/New_York:20211003T190000
DTSTAMP:20260421T002843
CREATED:20210929T152118Z
LAST-MODIFIED:20210929T154152Z
UID:29525-1633284000-1633287600@www.worldbibleschool.net
SUMMARY:WBS Presentation in Paintsville\, KY
DESCRIPTION:
URL:https://www.worldbibleschool.net/eventdetail/wbs-presentation-in-paintsville-church-of-christ/
LOCATION:Paintsville church of Christ\, 412 11th St\, Paintsville\, KY\, 41240\, United States
CATEGORIES:WBS Presentation
ATTACH;FMTTYPE=image/jpeg:https://www.worldbibleschool.net/wp-content/uploads/2021/09/Paintsville.jpg
END:VEVENT
BEGIN:VEVENT
DTSTART;TZID=America/New_York:20211003T103000
DTEND;TZID=America/New_York:20211003T105000
DTSTAMP:20260421T002843
CREATED:20210929T145603Z
LAST-MODIFIED:20210929T145603Z
UID:29522-1633257000-1633258200@www.worldbibleschool.net
SUMMARY:WBS Presentation in Belpre\, OH
DESCRIPTION:
URL:https://www.worldbibleschool.net/eventdetail/wbs-presentation-in-belpre-oh/
LOCATION:Belpre church of Christ\, 2932 Washington Blvd.\, Belpre\, OH\, 45714\, United States
CATEGORIES:WBS Presentation
ATTACH;FMTTYPE=image/jpeg:https://www.worldbibleschool.net/wp-content/uploads/2021/09/Belpre.jpg
END:VEVENT
BEGIN:VEVENT
DTSTART;TZID=America/Chicago:20210926T103000
DTEND;TZID=America/Chicago:20210926T113000
DTSTAMP:20260421T002843
CREATED:20210908T150116Z
LAST-MODIFIED:20210908T150116Z
UID:29430-1632652200-1632655800@www.worldbibleschool.net
SUMMARY:WBS Presentation in Franklin\, KY
DESCRIPTION:
URL:https://www.worldbibleschool.net/eventdetail/wbs-presentation-in-franklin-ky-2/
LOCATION:Locust Grove church of Christ\, 7055 Turnertown Road\, Franklin\, KY\, 42134\, United States
CATEGORIES:WBS Presentation
ATTACH;FMTTYPE=image/png:https://www.worldbibleschool.net/wp-content/uploads/2019/06/Logo-Bible-for-millionsWBS.png
END:VEVENT
BEGIN:VEVENT
DTSTART;TZID=America/Chicago:20210919T180000
DTEND;TZID=America/Chicago:20210919T190000
DTSTAMP:20260421T002843
CREATED:20210908T144700Z
LAST-MODIFIED:20210908T144700Z
UID:29426-1632074400-1632078000@www.worldbibleschool.net
SUMMARY:WBS Presentation in Bowling Green\, KY
DESCRIPTION:
URL:https://www.worldbibleschool.net/eventdetail/wbs-presentation-in-bowling-green-ky/
LOCATION:Mount Pleasant church of Christ\, 10219 KY Highway 185\, Bowling Green\, KY\, 42101\, United States
CATEGORIES:WBS Presentation
ATTACH;FMTTYPE=image/jpeg:https://www.worldbibleschool.net/wp-content/uploads/2021/09/Mount-Pleasant.jpg
END:VEVENT
BEGIN:VEVENT
DTSTART;TZID=America/Chicago:20210919T170000
DTEND;TZID=America/Chicago:20210919T173000
DTSTAMP:20260421T002843
CREATED:20210825T144452Z
LAST-MODIFIED:20210825T144452Z
UID:29369-1632070800-1632072600@www.worldbibleschool.net
SUMMARY:WBS Presentation in San Angelo\, TX
DESCRIPTION:
URL:https://www.worldbibleschool.net/eventdetail/wbs-presentation-in-san-angelo-tx/
LOCATION:Southgate church of Christ\, 528 Country Club Road\, San Angelo\, TX\, 76904\, United States
CATEGORIES:WBS Presentation
ATTACH;FMTTYPE=image/jpeg:https://www.worldbibleschool.net/wp-content/uploads/2021/08/Southgate.jpg
END:VEVENT
BEGIN:VEVENT
DTSTART;TZID=America/New_York:20210912T110000
DTEND;TZID=America/New_York:20210912T120000
DTSTAMP:20260421T002843
CREATED:20210806T192516Z
LAST-MODIFIED:20210806T192516Z
UID:29188-1631444400-1631448000@www.worldbibleschool.net
SUMMARY:WBS Presentation in Bellville\, OH
DESCRIPTION:
URL:https://www.worldbibleschool.net/eventdetail/wbs-presentation-in-bellville-oh/
LOCATION:Perry church of Christ\, 2348 Darlington East Rd\, Bellville\, OH\, 44813\, United States
CATEGORIES:WBS Presentation
ATTACH;FMTTYPE=image/jpeg:https://www.worldbibleschool.net/wp-content/uploads/2021/08/Perry.jpg
END:VEVENT
BEGIN:VEVENT
DTSTART;VALUE=DATE:20210910
DTEND;VALUE=DATE:20210912
DTSTAMP:20260421T002843
CREATED:20210825T135803Z
LAST-MODIFIED:20210825T135803Z
UID:29364-1631232000-1631404799@www.worldbibleschool.net
SUMMARY:WBS Booth in Waxahachie\, TX
DESCRIPTION:
URL:https://www.worldbibleschool.net/eventdetail/wbs-booth-in-waxahachie-tx/
LOCATION:Equip Workshop\, Brown Street church of Christ\, 2471 Brown Street\, Waxahachie\, TX\, 75165\, United States
CATEGORIES:WBS Booth
ATTACH;FMTTYPE=image/jpeg:https://www.worldbibleschool.net/wp-content/uploads/2021/08/BrownStreet.jpg
END:VEVENT
BEGIN:VEVENT
DTSTART;TZID=America/Chicago:20210908T173000
DTEND;TZID=America/Chicago:20210908T183000
DTSTAMP:20260421T002843
CREATED:20210908T141055Z
LAST-MODIFIED:20210908T141055Z
UID:29422-1631122200-1631125800@www.worldbibleschool.net
SUMMARY:WBS Presentation in Franklin\, KY
DESCRIPTION:
URL:https://www.worldbibleschool.net/eventdetail/wbs-presentation-in-franklin-ky/
LOCATION:Harristown church of Christ\, 400 Pelham Street\, Franklin\, KY\, 42134\, United States
CATEGORIES:WBS Presentation
ATTACH;FMTTYPE=image/jpeg:https://www.worldbibleschool.net/wp-content/uploads/2021/09/Harristown.jpg
END:VEVENT
BEGIN:VEVENT
DTSTART;TZID=America/Chicago:20210905T170000
DTEND;TZID=America/Chicago:20210905T180000
DTSTAMP:20260421T002843
CREATED:20210811T152850Z
LAST-MODIFIED:20210811T152850Z
UID:29220-1630861200-1630864800@www.worldbibleschool.net
SUMMARY:WBS Presentation in White Bluff\, TN
DESCRIPTION:
URL:https://www.worldbibleschool.net/eventdetail/wbs-presentation-in-white-bluff-tn/
LOCATION:White Bluff church of Christ\, 4416 Hwy 70E\, White Bluff\, TN\, 37187\, United States
CATEGORIES:WBS Presentation
ATTACH;FMTTYPE=image/jpeg:https://www.worldbibleschool.net/wp-content/uploads/2021/08/White-Bluff.jpg
END:VEVENT
END:VCALENDAR