BEGIN:VCALENDAR
VERSION:2.0
PRODID:-//World Bible School - ECPv6.15.20//NONSGML v1.0//EN
CALSCALE:GREGORIAN
METHOD:PUBLISH
X-WR-CALNAME:World Bible School
X-ORIGINAL-URL:https://www.worldbibleschool.net
X-WR-CALDESC:Events for World Bible School
REFRESH-INTERVAL;VALUE=DURATION:PT1H
X-Robots-Tag:noindex
X-PUBLISHED-TTL:PT1H
BEGIN:VTIMEZONE
TZID:America/Chicago
BEGIN:DAYLIGHT
TZOFFSETFROM:-0600
TZOFFSETTO:-0500
TZNAME:CDT
DTSTART:20210314T080000
END:DAYLIGHT
BEGIN:STANDARD
TZOFFSETFROM:-0500
TZOFFSETTO:-0600
TZNAME:CST
DTSTART:20211107T070000
END:STANDARD
BEGIN:DAYLIGHT
TZOFFSETFROM:-0600
TZOFFSETTO:-0500
TZNAME:CDT
DTSTART:20220313T080000
END:DAYLIGHT
BEGIN:STANDARD
TZOFFSETFROM:-0500
TZOFFSETTO:-0600
TZNAME:CST
DTSTART:20221106T070000
END:STANDARD
BEGIN:DAYLIGHT
TZOFFSETFROM:-0600
TZOFFSETTO:-0500
TZNAME:CDT
DTSTART:20230312T080000
END:DAYLIGHT
BEGIN:STANDARD
TZOFFSETFROM:-0500
TZOFFSETTO:-0600
TZNAME:CST
DTSTART:20231105T070000
END:STANDARD
BEGIN:DAYLIGHT
TZOFFSETFROM:-0600
TZOFFSETTO:-0500
TZNAME:CDT
DTSTART:20240310T080000
END:DAYLIGHT
BEGIN:STANDARD
TZOFFSETFROM:-0500
TZOFFSETTO:-0600
TZNAME:CST
DTSTART:20241103T070000
END:STANDARD
END:VTIMEZONE
BEGIN:VTIMEZONE
TZID:America/Phoenix
BEGIN:STANDARD
TZOFFSETFROM:-0700
TZOFFSETTO:-0700
TZNAME:MST
DTSTART:20210101T000000
END:STANDARD
END:VTIMEZONE
BEGIN:VTIMEZONE
TZID:America/New_York
BEGIN:DAYLIGHT
TZOFFSETFROM:-0500
TZOFFSETTO:-0400
TZNAME:EDT
DTSTART:20210314T070000
END:DAYLIGHT
BEGIN:STANDARD
TZOFFSETFROM:-0400
TZOFFSETTO:-0500
TZNAME:EST
DTSTART:20211107T060000
END:STANDARD
BEGIN:DAYLIGHT
TZOFFSETFROM:-0500
TZOFFSETTO:-0400
TZNAME:EDT
DTSTART:20220313T070000
END:DAYLIGHT
BEGIN:STANDARD
TZOFFSETFROM:-0400
TZOFFSETTO:-0500
TZNAME:EST
DTSTART:20221106T060000
END:STANDARD
BEGIN:DAYLIGHT
TZOFFSETFROM:-0500
TZOFFSETTO:-0400
TZNAME:EDT
DTSTART:20230312T070000
END:DAYLIGHT
BEGIN:STANDARD
TZOFFSETFROM:-0400
TZOFFSETTO:-0500
TZNAME:EST
DTSTART:20231105T060000
END:STANDARD
END:VTIMEZONE
BEGIN:VEVENT
DTSTART;TZID=America/Chicago:20230115T090000
DTEND;TZID=America/Chicago:20230115T100000
DTSTAMP:20260420T181912
CREATED:20221208T194822Z
LAST-MODIFIED:20221208T194822Z
UID:33673-1673773200-1673776800@www.worldbibleschool.net
SUMMARY:Presentation in Garland\, TX
DESCRIPTION:
URL:https://www.worldbibleschool.net/eventdetail/presentation-in-garland-tx/
LOCATION:Buckingham Road church of Christ\, 3630 Buckingham Road\, Garland\, TX\, 75042\, United States
CATEGORIES:WBS Presentation
ATTACH;FMTTYPE=image/png:https://www.worldbibleschool.net/wp-content/uploads/2018/06/LogoIcon-1.png
END:VEVENT
BEGIN:VEVENT
DTSTART;TZID=America/Chicago:20230108T100000
DTEND;TZID=America/Chicago:20230108T130000
DTSTAMP:20260420T181912
CREATED:20230103T202031Z
LAST-MODIFIED:20230103T202031Z
UID:33731-1673172000-1673182800@www.worldbibleschool.net
SUMMARY:WBS Presentation & Workshop in Wichita Falls\, TX
DESCRIPTION:Jim will be speaking at the 10:00 worship service and will have a WBS Workshop beginning at noon. Please call to reserve a meal.
URL:https://www.worldbibleschool.net/eventdetail/wbs-presentation-workshop-in-wichita-falls-tx/
LOCATION:Edgemere church of Christ\, 4728 Neta Lane\, Wichita Falls\, TX\, 76302\, United States
CATEGORIES:WBS Presentation,WBS Seminar
ATTACH;FMTTYPE=image/jpeg:https://www.worldbibleschool.net/wp-content/uploads/2023/01/Edgemere.jpg
END:VEVENT
BEGIN:VEVENT
DTSTART;TZID=America/Chicago:20221120T140000
DTEND;TZID=America/Chicago:20221120T150000
DTSTAMP:20260420T181912
CREATED:20221027T022150Z
LAST-MODIFIED:20221027T022150Z
UID:33357-1668952800-1668956400@www.worldbibleschool.net
SUMMARY:WBS Seminar in Zanesville\, OH
DESCRIPTION:
URL:https://www.worldbibleschool.net/eventdetail/wbs-seminar-in-zanesville-oh/
LOCATION:Norval Park church of Christ\, 845 Arch Street\, Zanesville\, OH\, 43701\, United States
CATEGORIES:WBS Seminar
ATTACH;FMTTYPE=image/jpeg:https://www.worldbibleschool.net/wp-content/uploads/2022/03/NorvalPark.jpg
END:VEVENT
BEGIN:VEVENT
DTSTART;TZID=America/Chicago:20221110T183000
DTEND;TZID=America/Chicago:20221110T210000
DTSTAMP:20260420T181912
CREATED:20220727T183326Z
LAST-MODIFIED:20220727T183355Z
UID:30886-1668105000-1668114000@www.worldbibleschool.net
SUMMARY:WBS Benefit Dinner in Austin\, TX
DESCRIPTION:Join us to hear in person about 10\,000\,000 for Christ! \nSpeaker: Jeff Jenkins\nMinister\, Co-Owner of Jenkins Institute \nPlease RSVP at the website below by November 1.
URL:https://www.worldbibleschool.net/eventdetail/wbs-benefit-dinner-in-austin/
LOCATION:Westside church of Christ\, 3300 Ranch Road 1431\, Round Rock\, TX\, 78681\, United States
CATEGORIES:WBS Dinner
ATTACH;FMTTYPE=image/jpeg:https://www.worldbibleschool.net/wp-content/uploads/2021/08/westside-church-of-christ.jpg
ORGANIZER;CN="Pat Brown":MAILTO:pat@worldbibleschool.net
END:VEVENT
BEGIN:VEVENT
DTSTART;TZID=America/Chicago:20221006T183000
DTEND;TZID=America/Chicago:20221006T210000
DTSTAMP:20260420T181912
CREATED:20220727T182512Z
LAST-MODIFIED:20220727T182512Z
UID:30882-1665081000-1665090000@www.worldbibleschool.net
SUMMARY:WBS Benefit Dinner in Nashville\, TN
DESCRIPTION:Join us to hear in person about 10\,000\,000 for Christ! \nSpeaker: TJ Kirk\nVice President for Student Services\, Freed- Hardeman University \nPlease RSVP at the website below by September 26. \nIf you have any questions\, call us at 512-345-8190.
URL:https://www.worldbibleschool.net/eventdetail/wbs-benefit-dinner-in-nashville-tn/
LOCATION:Concord Road church of Christ\, 8221 Concord Rd\, Brentwood\, TX\, 37027\, United States
CATEGORIES:WBS Dinner
ATTACH;FMTTYPE=image/jpeg:https://www.worldbibleschool.net/wp-content/uploads/2022/07/Concord-Road.jpg
ORGANIZER;CN="Pat Brown":MAILTO:pat@worldbibleschool.net
END:VEVENT
BEGIN:VEVENT
DTSTART;TZID=America/Chicago:20220912T183000
DTEND;TZID=America/Chicago:20220912T210000
DTSTAMP:20260420T181912
CREATED:20220727T181737Z
LAST-MODIFIED:20220727T183807Z
UID:30872-1663007400-1663016400@www.worldbibleschool.net
SUMMARY:WBS Dinner in Searcy\, AR
DESCRIPTION:Join us to hear in person about 10\,000\,000 for Christ! \nSpeaker: Kyle Butt\nWriter\, Apologetics Press \nPlease RSVP at the website below by September 6. \nIf you have any questions\, call us at 512-345-8190
URL:https://www.worldbibleschool.net/eventdetail/wbs-dinner-in-searcy-ar/
LOCATION:Harding University\, American Heritage Bldg\, Founders Room\, 915 E Market Ave\, Searcy\, AR\, 72149\, United States
CATEGORIES:WBS Dinner
ATTACH;FMTTYPE=image/jpeg:https://www.worldbibleschool.net/wp-content/uploads/2022/07/Harding-FoundersRoom.jpg
ORGANIZER;CN="Pat Brown":MAILTO:pat@worldbibleschool.net
END:VEVENT
BEGIN:VEVENT
DTSTART;TZID=America/Chicago:20220830T183000
DTEND;TZID=America/Chicago:20220830T203000
DTSTAMP:20260420T181912
CREATED:20220727T160520Z
LAST-MODIFIED:20220727T160655Z
UID:30868-1661884200-1661891400@www.worldbibleschool.net
SUMMARY:WBS Benefit Dinner in Florence\, AL
DESCRIPTION:Join us to hear in person about 10\,000\,000 for Christ!\nSpeaker: Brian Rex Davis\nPresident\, World Bible School \nPlease RSVP at the website below by August 23. \nIf you have any questions\, call us at 512-345-8190.
URL:https://www.worldbibleschool.net/eventdetail/wbs-benefit-dinner-in-florence-al/
LOCATION:Florence Blvd. Church of Christ\, 2502 Florence Blvd.\, Florence\, AL\, 35630\, United States
CATEGORIES:WBS Dinner
ATTACH;FMTTYPE=image/jpeg:https://www.worldbibleschool.net/wp-content/uploads/2022/07/NorthRidge.jpg
ORGANIZER;CN="Pat Brown":MAILTO:pat@worldbibleschool.net
END:VEVENT
BEGIN:VEVENT
DTSTART;TZID=America/Chicago:20220821T090000
DTEND;TZID=America/Chicago:20220821T094500
DTSTAMP:20260420T181912
CREATED:20220728T161616Z
LAST-MODIFIED:20220812T000129Z
UID:30894-1661072400-1661075100@www.worldbibleschool.net
SUMMARY:WBS Presentation in Benton\, AR
DESCRIPTION:
URL:https://www.worldbibleschool.net/eventdetail/wbs-presentation-in-benton-ar/
LOCATION:Northside church of Christ\, 917 N. East Street\, Benton\, TX\, 72015\, United States
CATEGORIES:WBS Presentation
ATTACH;FMTTYPE=image/jpeg:https://www.worldbibleschool.net/wp-content/uploads/2022/07/NorthsideBenton.jpg
END:VEVENT
BEGIN:VEVENT
DTSTART;TZID=America/Chicago:20220717T100000
DTEND;TZID=America/Chicago:20220717T110000
DTSTAMP:20260420T181912
CREATED:20220512T141827Z
LAST-MODIFIED:20220512T141827Z
UID:30556-1658052000-1658055600@www.worldbibleschool.net
SUMMARY:WBS Presentation in Stigler\, OK
DESCRIPTION:
URL:https://www.worldbibleschool.net/eventdetail/wbs-presentation-in-stigler-ok/
LOCATION:Stigler church of Christ\, 502 SE A Street\, Stigler\, OK\, 74462\, United States
CATEGORIES:WBS Presentation
ATTACH;FMTTYPE=image/jpeg:https://www.worldbibleschool.net/wp-content/uploads/2022/05/Stigler.jpg
END:VEVENT
BEGIN:VEVENT
DTSTART;TZID=America/Chicago:20220626T093000
DTEND;TZID=America/Chicago:20220626T140000
DTSTAMP:20260420T181912
CREATED:20220316T163713Z
LAST-MODIFIED:20220316T163713Z
UID:30255-1656235800-1656252000@www.worldbibleschool.net
SUMMARY:WBS Class\, Presentation & Seminar in Alvin\, TX
DESCRIPTION:
URL:https://www.worldbibleschool.net/eventdetail/wbs-class-presentation-seminar-in-alvin-tx/
LOCATION:Westside church of Christ\, 831 Heights Road\, Alvin\, TX\, 77511\, United States
CATEGORIES:WBS Class,WBS Presentation,WBS Seminar
ATTACH;FMTTYPE=image/jpeg:https://www.worldbibleschool.net/wp-content/uploads/2022/03/Westside-cofC-Alvin-TX.jpg
END:VEVENT
BEGIN:VEVENT
DTSTART;VALUE=DATE:20220625
DTEND;VALUE=DATE:20220629
DTSTAMP:20260420T181912
CREATED:20220414T185454Z
LAST-MODIFIED:20220504T181337Z
UID:30396-1656115200-1656460799@www.worldbibleschool.net
SUMMARY:WBS Display and Class in Red River\, NM
DESCRIPTION:
URL:https://www.worldbibleschool.net/eventdetail/wbs-display-and-class/
LOCATION:Red River Family Encampment\, Red River\, NM\, 87558\, United States
CATEGORIES:WBS Class,WBS Display
ATTACH;FMTTYPE=image/jpeg:https://www.worldbibleschool.net/wp-content/uploads/2022/04/RedRivercrowd.jpg
END:VEVENT
BEGIN:VEVENT
DTSTART;TZID=America/Chicago:20220605T100000
DTEND;TZID=America/Chicago:20220605T110000
DTSTAMP:20260420T181912
CREATED:20220504T165009Z
LAST-MODIFIED:20220504T181421Z
UID:30484-1654423200-1654426800@www.worldbibleschool.net
SUMMARY:WBS Class Presentation in Cookeville\, TN
DESCRIPTION:
URL:https://www.worldbibleschool.net/eventdetail/wbs-class-presentation/
LOCATION:Sycamore church of Christ\, 1144 Crescent Dr.\, Cookeville\, TN\, 38501\, United States
CATEGORIES:WBS Class,WBS Presentation
ATTACH;FMTTYPE=image/png:https://www.worldbibleschool.net/wp-content/uploads/2019/01/Screen-Shot-2019-01-24-at-10.56.11-AM.png
END:VEVENT
BEGIN:VEVENT
DTSTART;TZID=America/Chicago:20220522T093000
DTEND;TZID=America/Chicago:20220522T113000
DTSTAMP:20260420T181912
CREATED:20220512T141213Z
LAST-MODIFIED:20220512T141213Z
UID:30553-1653211800-1653219000@www.worldbibleschool.net
SUMMARY:WBS Class Presentation & Worship in Topeka\, KS
DESCRIPTION:
URL:https://www.worldbibleschool.net/eventdetail/wbs-class-presentation-worship-in-topeka-ks/
LOCATION:Central church of Christ\, 1250 SW College\, Topeka\, KS\, 66604\, United States
CATEGORIES:WBS Class,WBS Presentation
ATTACH;FMTTYPE=image/jpeg:https://www.worldbibleschool.net/wp-content/uploads/2022/05/Central.jpg
END:VEVENT
BEGIN:VEVENT
DTSTART;TZID=America/Chicago:20220522T093000
DTEND;TZID=America/Chicago:20220522T103000
DTSTAMP:20260420T181912
CREATED:20220330T155505Z
LAST-MODIFIED:20220330T155505Z
UID:30338-1653211800-1653215400@www.worldbibleschool.net
SUMMARY:WBS Presentation in Atlanta\, TX
DESCRIPTION:
URL:https://www.worldbibleschool.net/eventdetail/wbs-presentation-in-atlanta-tx/
LOCATION:Atlanta church of Christ\, 512 E. Pinecrest Drive\, Atlanta\, TX\, 75551\, United States
CATEGORIES:WBS Presentation
ATTACH;FMTTYPE=image/jpeg:https://www.worldbibleschool.net/wp-content/uploads/2022/03/atlanta.jpg
END:VEVENT
BEGIN:VEVENT
DTSTART;TZID=America/New_York:20220515T180000
DTEND;TZID=America/New_York:20220515T190000
DTSTAMP:20260420T181912
CREATED:20220302T193118Z
LAST-MODIFIED:20220302T193118Z
UID:30217-1652637600-1652641200@www.worldbibleschool.net
SUMMARY:WBS Presentation in Zanesville\, OH
DESCRIPTION:
URL:https://www.worldbibleschool.net/eventdetail/wbs-presentation-in-zanesville-oh/
LOCATION:Norval Park church of Christ\, 845 Arch Street\, Zanesville\, OH\, 43701\, United States
CATEGORIES:WBS Presentation
ATTACH;FMTTYPE=image/jpeg:https://www.worldbibleschool.net/wp-content/uploads/2022/03/NorvalPark.jpg
END:VEVENT
BEGIN:VEVENT
DTSTART;TZID=America/Chicago:20220515T170000
DTEND;TZID=America/Chicago:20220515T180000
DTSTAMP:20260420T181912
CREATED:20220504T170204Z
LAST-MODIFIED:20220504T170204Z
UID:30488-1652634000-1652637600@www.worldbibleschool.net
SUMMARY:WBS Presentation in Fort Worth\, TX
DESCRIPTION:
URL:https://www.worldbibleschool.net/eventdetail/wbs-presentation-in-fort-worth-tx/
LOCATION:Bridgewood church of Christ\, 6516 Brentwood Stair Rd\, Fort Worth\, TX\, 76112\, United States
CATEGORIES:WBS Presentation
ATTACH;FMTTYPE=image/jpeg:https://www.worldbibleschool.net/wp-content/uploads/2022/05/Bridgewood.jpg
END:VEVENT
BEGIN:VEVENT
DTSTART;TZID=America/New_York:20220515T094500
DTEND;TZID=America/New_York:20220515T103000
DTSTAMP:20260420T181912
CREATED:20220119T164721Z
LAST-MODIFIED:20220126T183441Z
UID:29993-1652607900-1652610600@www.worldbibleschool.net
SUMMARY:WBS Presentation in Byesville\, OH
DESCRIPTION:
URL:https://www.worldbibleschool.net/eventdetail/wbs-presentation-in-byesville-oh/
LOCATION:Stop Nine church of Christ\, 60330 Southgate Rd\, Byesville\, OH\, 43723\, United States
CATEGORIES:WBS Presentation
ATTACH;FMTTYPE=image/jpeg:https://www.worldbibleschool.net/wp-content/uploads/2022/01/StopNine.jpg
END:VEVENT
BEGIN:VEVENT
DTSTART;TZID=America/Chicago:20220515T093000
DTEND;TZID=America/Chicago:20220515T113000
DTSTAMP:20260420T181912
CREATED:20220427T133840Z
LAST-MODIFIED:20220504T181526Z
UID:30464-1652607000-1652614200@www.worldbibleschool.net
SUMMARY:WBS Class\, Worship & Presentation in Blum\, TX
DESCRIPTION:
URL:https://www.worldbibleschool.net/eventdetail/wbs-class-worship-presentation/
LOCATION:Blum church of Christ\, 4th St and S Ave H\, Blum\, TX\, 76627\, United States
CATEGORIES:WBS Class,WBS Presentation
ATTACH;FMTTYPE=image/jpeg:https://www.worldbibleschool.net/wp-content/uploads/2022/04/Blum.jpg
END:VEVENT
BEGIN:VEVENT
DTSTART;TZID=America/Chicago:20220515T090000
DTEND;TZID=America/Chicago:20220515T140000
DTSTAMP:20260420T181912
CREATED:20220419T184045Z
LAST-MODIFIED:20220419T184126Z
UID:30430-1652605200-1652623200@www.worldbibleschool.net
SUMMARY:WBS Class\, Presentation & Seminar in Heber Springs\, AR
DESCRIPTION:
URL:https://www.worldbibleschool.net/eventdetail/wbs-class-presentation-seminar-in-heber-springs-ar/
LOCATION:Heber Springs church of Christ\, 1314 W. Pine St.\, Heber Springs\, AR 72543\, AR\, 72543\, United States
CATEGORIES:WBS Class,WBS Presentation,WBS Seminar
ATTACH;FMTTYPE=image/jpeg:https://www.worldbibleschool.net/wp-content/uploads/2022/04/Heber-Springs.jpg
END:VEVENT
BEGIN:VEVENT
DTSTART;TZID=America/Chicago:20220501T100000
DTEND;TZID=America/Chicago:20220501T110000
DTSTAMP:20260420T181912
CREATED:20220419T191139Z
LAST-MODIFIED:20220419T191139Z
UID:30435-1651399200-1651402800@www.worldbibleschool.net
SUMMARY:WBS Presentation in Nolensville\, TN
DESCRIPTION:
URL:https://www.worldbibleschool.net/eventdetail/wbs-presentation-in-nolensville-tn/
LOCATION:Mill Creek church of Christ\, 7260 Nolensvile Road\, Nolensville\, TN\, 37135\, United States
CATEGORIES:WBS Presentation
ATTACH;FMTTYPE=image/jpeg:https://www.worldbibleschool.net/wp-content/uploads/2022/04/Mill-Creek.jpg
END:VEVENT
BEGIN:VEVENT
DTSTART;TZID=America/Chicago:20220427T190000
DTEND;TZID=America/Chicago:20220427T200000
DTSTAMP:20260420T181912
CREATED:20220316T182946Z
LAST-MODIFIED:20220316T182946Z
UID:30280-1651086000-1651089600@www.worldbibleschool.net
SUMMARY:WBS Presentation in Murfreesboro\, TN
DESCRIPTION:
URL:https://www.worldbibleschool.net/eventdetail/wbs-presentation-in-murfreesboro-tn/
LOCATION:Walter Hill church of Christ\, 7277 Lebanon Rd\, Murfreesboro\, TN\, 37129\, United States
CATEGORIES:WBS Presentation
ATTACH;FMTTYPE=image/jpeg:https://www.worldbibleschool.net/wp-content/uploads/2022/03/WalterHill.jpg
END:VEVENT
BEGIN:VEVENT
DTSTART;TZID=America/Chicago:20220424T093000
DTEND;TZID=America/Chicago:20220424T103000
DTSTAMP:20260420T181912
CREATED:20220316T170349Z
LAST-MODIFIED:20220316T170349Z
UID:30271-1650792600-1650796200@www.worldbibleschool.net
SUMMARY:WBS Presentation in Phil Campbell\, AL
DESCRIPTION:
URL:https://www.worldbibleschool.net/eventdetail/wbs-presentation-in-phil-campbell-al/
LOCATION:Gravel Hill church of Christ\, 4165 Gravel Hill Road\, Phil Campbell\, AL\, 35581\, United States
CATEGORIES:WBS Presentation
ATTACH;FMTTYPE=image/jpeg:https://www.worldbibleschool.net/wp-content/uploads/2022/03/Gravel-Hill.jpg
END:VEVENT
BEGIN:VEVENT
DTSTART;TZID=America/New_York:20220424T090000
DTEND;TZID=America/New_York:20220424T143000
DTSTAMP:20260420T181912
CREATED:20220119T191804Z
LAST-MODIFIED:20220119T191804Z
UID:30015-1650790800-1650810600@www.worldbibleschool.net
SUMMARY:WBS Class\, Presentation & Seminar in Goshen\, IN
DESCRIPTION:
URL:https://www.worldbibleschool.net/eventdetail/wbs-class-presentation-seminar-in-goshen-in/
LOCATION:Goshen church of Christ\, 61073 IN-15\, Goshen IN\, 46528\, United States
CATEGORIES:WBS Class,WBS Presentation,WBS Seminar
ATTACH;FMTTYPE=image/jpeg:https://www.worldbibleschool.net/wp-content/uploads/2022/01/Goshen.jpg
END:VEVENT
BEGIN:VEVENT
DTSTART;TZID=America/New_York:20220420T190000
DTEND;TZID=America/New_York:20220420T200000
DTSTAMP:20260420T181912
CREATED:20220419T183303Z
LAST-MODIFIED:20220419T183303Z
UID:30426-1650481200-1650484800@www.worldbibleschool.net
SUMMARY:WBS Presentation in Grandville\, MI
DESCRIPTION:
URL:https://www.worldbibleschool.net/eventdetail/wbs-presentation-in-grandville-mi/
LOCATION:Grandville church of Christ\, 3725 44th St. SW\, Grandville\, MI\, 49418\, United States
CATEGORIES:WBS Presentation
ATTACH;FMTTYPE=image/jpeg:https://www.worldbibleschool.net/wp-content/uploads/2022/04/Grandville.jpg
END:VEVENT
BEGIN:VEVENT
DTSTART;TZID=America/New_York:20220413T190000
DTEND;TZID=America/New_York:20220413T190000
DTSTAMP:20260420T181912
CREATED:20220406T151016Z
LAST-MODIFIED:20220406T151016Z
UID:30361-1649876400-1649876400@www.worldbibleschool.net
SUMMARY:WBS Presentation in Asheville\, NC
DESCRIPTION:
URL:https://www.worldbibleschool.net/eventdetail/wbs-presentation-in-asheville-nc/
LOCATION:Biltmore church of Christ\, 823 Fairview St\, Asheville\, 28803\, United States
CATEGORIES:WBS Presentation
ATTACH;FMTTYPE=image/jpeg:https://www.worldbibleschool.net/wp-content/uploads/2022/04/Biltmore.jpg
END:VEVENT
BEGIN:VEVENT
DTSTART;TZID=America/New_York:20220410T180000
DTEND;TZID=America/New_York:20220410T190000
DTSTAMP:20260420T181912
CREATED:20220316T165600Z
LAST-MODIFIED:20220316T165600Z
UID:30267-1649613600-1649617200@www.worldbibleschool.net
SUMMARY:WBS Presentation in Statesville\, NC
DESCRIPTION:
URL:https://www.worldbibleschool.net/eventdetail/wbs-presentation-in-statesville-nc-2/
LOCATION:Abilene church of Christ\, 120 Bell Farm Rd\, Statesville\, NC\, 28625\, United States
CATEGORIES:WBS Presentation
ATTACH;FMTTYPE=image/jpeg:https://www.worldbibleschool.net/wp-content/uploads/2022/03/Abilene.jpg
END:VEVENT
BEGIN:VEVENT
DTSTART;TZID=America/Chicago:20220410T100000
DTEND;TZID=America/Chicago:20220410T230000
DTSTAMP:20260420T181912
CREATED:20220406T144148Z
LAST-MODIFIED:20220406T144148Z
UID:30357-1649584800-1649631600@www.worldbibleschool.net
SUMMARY:WBS Presentation in Spring Hill\, TN
DESCRIPTION:
URL:https://www.worldbibleschool.net/eventdetail/wbs-presentation-in-spring-hill-tn/
LOCATION:Spring Hill church of Christ\, 5351 Main Street\, Spring Hill\, 37174\, United States
CATEGORIES:WBS Presentation
ATTACH;FMTTYPE=image/jpeg:https://www.worldbibleschool.net/wp-content/uploads/2022/04/SpringHill.jpg
END:VEVENT
BEGIN:VEVENT
DTSTART;TZID=America/New_York:20220410T100000
DTEND;TZID=America/New_York:20220410T110000
DTSTAMP:20260420T181912
CREATED:20220316T165230Z
LAST-MODIFIED:20220316T165238Z
UID:30263-1649584800-1649588400@www.worldbibleschool.net
SUMMARY:WBS Presentation in Statesville\, NC
DESCRIPTION:
URL:https://www.worldbibleschool.net/eventdetail/wbs-presentation-in-statesville-nc/
LOCATION:Highland Acres church of Christ\, 1301 McLaughlin Street\, Statesville\, NC\, 28687\, United States
CATEGORIES:WBS Presentation
ATTACH;FMTTYPE=image/jpeg:https://www.worldbibleschool.net/wp-content/uploads/2022/03/Highland-Acres.jpg
END:VEVENT
BEGIN:VEVENT
DTSTART;TZID=America/Chicago:20220403T180000
DTEND;TZID=America/Chicago:20220403T190000
DTSTAMP:20260420T181912
CREATED:20220316T164846Z
LAST-MODIFIED:20220316T164846Z
UID:30258-1649008800-1649012400@www.worldbibleschool.net
SUMMARY:WBS Presentation in Moulton\, AL
DESCRIPTION:
URL:https://www.worldbibleschool.net/eventdetail/wbs-presentation-in-moulton-al/
LOCATION:Midway church of Christ\, 4334 County Road 434\, Moulton\, AL\, 35650\, United States
CATEGORIES:WBS Presentation
ATTACH;FMTTYPE=image/jpeg:https://www.worldbibleschool.net/wp-content/uploads/2022/03/Midway.jpg
END:VEVENT
BEGIN:VEVENT
DTSTART;TZID=America/Chicago:20220327T180000
DTEND;TZID=America/Chicago:20220327T190000
DTSTAMP:20260420T181912
CREATED:20220223T163505Z
LAST-MODIFIED:20220223T163505Z
UID:30187-1648404000-1648407600@www.worldbibleschool.net
SUMMARY:WBS Presentation in Hackleburg\, AL
DESCRIPTION:
URL:https://www.worldbibleschool.net/eventdetail/wbs-presentation-in-hackleburg-al/
LOCATION:Hackleburg church of Christ\, 33444 US Hwy 43\, Hackleburg\, AL\, 35564\, United States
CATEGORIES:WBS Presentation
ATTACH;FMTTYPE=image/jpeg:https://www.worldbibleschool.net/wp-content/uploads/2022/02/Hackleburg.jpg
END:VEVENT
END:VCALENDAR