BEGIN:VCALENDAR
VERSION:2.0
PRODID:-//World Bible School - ECPv6.15.20//NONSGML v1.0//EN
CALSCALE:GREGORIAN
METHOD:PUBLISH
X-WR-CALNAME:World Bible School
X-ORIGINAL-URL:https://www.worldbibleschool.net
X-WR-CALDESC:Events for World Bible School
REFRESH-INTERVAL;VALUE=DURATION:PT1H
X-Robots-Tag:noindex
X-PUBLISHED-TTL:PT1H
BEGIN:VTIMEZONE
TZID:America/Chicago
BEGIN:DAYLIGHT
TZOFFSETFROM:-0600
TZOFFSETTO:-0500
TZNAME:CDT
DTSTART:20170312T080000
END:DAYLIGHT
BEGIN:STANDARD
TZOFFSETFROM:-0500
TZOFFSETTO:-0600
TZNAME:CST
DTSTART:20171105T070000
END:STANDARD
BEGIN:DAYLIGHT
TZOFFSETFROM:-0600
TZOFFSETTO:-0500
TZNAME:CDT
DTSTART:20180311T080000
END:DAYLIGHT
BEGIN:STANDARD
TZOFFSETFROM:-0500
TZOFFSETTO:-0600
TZNAME:CST
DTSTART:20181104T070000
END:STANDARD
BEGIN:DAYLIGHT
TZOFFSETFROM:-0600
TZOFFSETTO:-0500
TZNAME:CDT
DTSTART:20190310T080000
END:DAYLIGHT
BEGIN:STANDARD
TZOFFSETFROM:-0500
TZOFFSETTO:-0600
TZNAME:CST
DTSTART:20191103T070000
END:STANDARD
BEGIN:DAYLIGHT
TZOFFSETFROM:-0600
TZOFFSETTO:-0500
TZNAME:CDT
DTSTART:20200308T080000
END:DAYLIGHT
BEGIN:STANDARD
TZOFFSETFROM:-0500
TZOFFSETTO:-0600
TZNAME:CST
DTSTART:20201101T070000
END:STANDARD
END:VTIMEZONE
BEGIN:VTIMEZONE
TZID:UTC
BEGIN:STANDARD
TZOFFSETFROM:+0000
TZOFFSETTO:+0000
TZNAME:UTC
DTSTART:20170101T000000
END:STANDARD
END:VTIMEZONE
BEGIN:VEVENT
DTSTART;TZID=America/Chicago:20190317T170000
DTEND;TZID=America/Chicago:20190317T180000
DTSTAMP:20260424T015721
CREATED:20190314T145103Z
LAST-MODIFIED:20190314T145103Z
UID:15895-1552842000-1552845600@www.worldbibleschool.net
SUMMARY:WBS Presentation
DESCRIPTION:Come learn how you can use WBS to share Jesus!
URL:https://www.worldbibleschool.net/eventdetail/wbs-presentation-5/
LOCATION:IUKA Church of Christ\, 800 Battleground Dr\, Iuka\, MS\, 38852\, United States
ATTACH;FMTTYPE=image/jpeg:https://www.worldbibleschool.net/wp-content/uploads/2019/03/IUKACofC.jpg
END:VEVENT
BEGIN:VEVENT
DTSTART;TZID=America/Chicago:20190310T180000
DTEND;TZID=America/Chicago:20190310T190000
DTSTAMP:20260424T015721
CREATED:20190227T211215Z
LAST-MODIFIED:20190227T211215Z
UID:15590-1552240800-1552244400@www.worldbibleschool.net
SUMMARY:WBS Presentation
DESCRIPTION:
URL:https://www.worldbibleschool.net/eventdetail/wbs-presentation-4/
LOCATION:Trent church of Christ\, 201 North Birch Street\, Trent\, TX\, 79561\, United States
ATTACH;FMTTYPE=image/png:https://www.worldbibleschool.net/wp-content/uploads/2018/10/LogoIcon-1.png
END:VEVENT
BEGIN:VEVENT
DTSTART;VALUE=DATE:20190310
DTEND;VALUE=DATE:20190311
DTSTAMP:20260424T015721
CREATED:20190306T210452Z
LAST-MODIFIED:20190306T211444Z
UID:15781-1552176000-1552262399@www.worldbibleschool.net
SUMMARY:WBS Presentation and Seminar
DESCRIPTION:Richard Patton will offer a presentation to talk about the WBS Tools; Study Edition Bible\, Postal Lessons\, Online lesson\, Connect\, Spoken\, and Mathetis. There will also be a seminar with information on how to get started with WBS. \nCome and learn how to put these tools to work in your congregation.
URL:https://www.worldbibleschool.net/eventdetail/wbs-display-copy-copy/
LOCATION:Higden church of Chrsit\, 7376 Edgemont Rd\, Higden\, AR\, 72067
ATTACH;FMTTYPE=image/jpeg:https://www.worldbibleschool.net/wp-content/uploads/2019/03/Higden-Church-building.jpg
END:VEVENT
BEGIN:VEVENT
DTSTART;VALUE=DATE:20190308
DTEND;VALUE=DATE:20190310
DTSTAMP:20260424T015721
CREATED:20190222T170609Z
LAST-MODIFIED:20190222T174128Z
UID:15511-1552003200-1552175999@www.worldbibleschool.net
SUMMARY:WBS Display at InSpire New England
DESCRIPTION:Visit the World Bible School diplay and learn about the WBS tools. The Study Edition Bible\, Postal Lessons\, Online lesson\, Connect\, Spoken\, and Mathetis. Learn how to put these tools to work in your congregation.
URL:https://www.worldbibleschool.net/eventdetail/wbs-display-copy/
LOCATION:Manchester church of Christ\, 595 Tolland Turnpike\, Manchester\, CT\, 06042
ATTACH;FMTTYPE=image/png:https://www.worldbibleschool.net/wp-content/uploads/2019/02/Screenshot-471.png
END:VEVENT
BEGIN:VEVENT
DTSTART;VALUE=DATE:20190303
DTEND;VALUE=DATE:20190308
DTSTAMP:20260424T015721
CREATED:20190222T160923Z
LAST-MODIFIED:20190222T170310Z
UID:15503-1551571200-1552003199@www.worldbibleschool.net
SUMMARY:WBS Display at Faulkner University Bible Lectures
DESCRIPTION:Visit the World Bible School diplay and learn about the WBS tools. The Study Edition Bible\, Postal Lessons\, Online lesson\, Connect\, Spoken\, and Mathetis. Learn how to put these tools to work in your congregation.
URL:https://www.worldbibleschool.net/eventdetail/wbs-display/
LOCATION:Faulker University\, 5345 Atlanta Highwy\, Mongomery\, AL\, 36109
ATTACH;FMTTYPE=image/jpeg:https://www.worldbibleschool.net/wp-content/uploads/2019/02/Faulkner-Lectures.jpg
END:VEVENT
BEGIN:VEVENT
DTSTART;TZID=America/Chicago:20190209T100000
DTEND;TZID=America/Chicago:20190209T123000
DTSTAMP:20260424T015721
CREATED:20181205T210645Z
LAST-MODIFIED:20190205T162835Z
UID:14621-1549706400-1549715400@www.worldbibleschool.net
SUMMARY:Central Texas WBS Seminar (New location!!)
DESCRIPTION:At this event we will discuss new WBS tools and upcoming events\, share experiences\, questions and lessons learned from coordinators and study helpers\, consider ways to improve your WBS outreach program\, and enjoy a free lunch together afterward.  If you are a WBS coordinator\, study helper\, or just want to learn more\, come join us for this special event! \nRSVP
URL:https://www.worldbibleschool.net/eventdetail/central-texas-wbs-coordinators-seminar/
LOCATION:Highland Village church of Christ Annex (new location!)\, 4716 Bull Creek Road\, Austin\, TX\, 78731\, United States
ATTACH;FMTTYPE=image/png:https://www.worldbibleschool.net/wp-content/uploads/2018/10/LogoIcon-1.png
END:VEVENT
BEGIN:VEVENT
DTSTART;TZID=America/Chicago:20190127T093000
DTEND;TZID=America/Chicago:20190127T113000
DTSTAMP:20260424T015721
CREATED:20181116T205739Z
LAST-MODIFIED:20181116T205739Z
UID:14289-1548581400-1548588600@www.worldbibleschool.net
SUMMARY:WBS Class and Presentation  Copy
DESCRIPTION:
URL:https://www.worldbibleschool.net/eventdetail/wbs-class-and-presentation-2-copy/
LOCATION:Highland Village church of Christ\, 4716 Bull Creek Road\, Austin\, Texas\, 78731
ATTACH;FMTTYPE=image/png:https://www.worldbibleschool.net/wp-content/uploads/2018/10/LogoIcon-1.png
END:VEVENT
BEGIN:VEVENT
DTSTART;TZID=America/Chicago:20190113T090000
DTEND;TZID=America/Chicago:20190113T100000
DTSTAMP:20260424T015721
CREATED:20181228T153744Z
LAST-MODIFIED:20181228T160510Z
UID:14837-1547370000-1547373600@www.worldbibleschool.net
SUMMARY:WBS Presentation
DESCRIPTION:
URL:https://www.worldbibleschool.net/eventdetail/wbs-presentation-3/
LOCATION:Lake Shore Drive church of Christ\, 2800 Lake Shore Drive\, Waco\, TX\, 76708\, United States
ATTACH;FMTTYPE=image/png:https://www.worldbibleschool.net/wp-content/uploads/2018/10/LogoIcon-1.png
END:VEVENT
BEGIN:VEVENT
DTSTART;TZID=America/Chicago:20181202T090000
DTEND;TZID=America/Chicago:20181202T100000
DTSTAMP:20260424T015721
CREATED:20181116T205746Z
LAST-MODIFIED:20181116T210819Z
UID:14291-1543741200-1543744800@www.worldbibleschool.net
SUMMARY:WBS Presentation
DESCRIPTION:
URL:https://www.worldbibleschool.net/eventdetail/wbs-class-and-presentation-2-copy-3/
LOCATION:Buffalo Gap Church of Christ\, 741 Litel\, Buffalo Gap\, TX\, 79508\, United States
ATTACH;FMTTYPE=image/png:https://www.worldbibleschool.net/wp-content/uploads/2018/10/LogoIcon-1.png
END:VEVENT
BEGIN:VEVENT
DTSTART;TZID=America/Chicago:20181118T094500
DTEND;TZID=America/Chicago:20181118T103000
DTSTAMP:20260424T015721
CREATED:20181017T203907Z
LAST-MODIFIED:20181116T211905Z
UID:13884-1542534300-1542537000@www.worldbibleschool.net
SUMMARY:WBS Presentation
DESCRIPTION:
URL:https://www.worldbibleschool.net/eventdetail/wbs-class-and-presentation-2/
LOCATION:Cross Plains Church of Christ\, 433 N. Main St\, Cross Plains\, TX\, 76443
ATTACH;FMTTYPE=image/png:https://www.worldbibleschool.net/wp-content/uploads/2018/10/LogoIcon-1.png
END:VEVENT
BEGIN:VEVENT
DTSTART;TZID=America/Chicago:20181118T090000
DTEND;TZID=America/Chicago:20181118T110000
DTSTAMP:20260424T015721
CREATED:20181017T201931Z
LAST-MODIFIED:20181017T202204Z
UID:13878-1542531600-1542538800@www.worldbibleschool.net
SUMMARY:WBS Class and Presentation
DESCRIPTION:
URL:https://www.worldbibleschool.net/eventdetail/wbs-class-and-presentation/
LOCATION:Alvarado church of Christ\, 203 E. Highway 67\, Alvarado\, Texas\, 76009
ATTACH;FMTTYPE=image/jpeg:https://www.worldbibleschool.net/wp-content/uploads/2018/10/Alvarado-cofC.jpg
END:VEVENT
BEGIN:VEVENT
DTSTART;TZID=America/Chicago:20181114T190000
DTEND;TZID=America/Chicago:20181114T210000
DTSTAMP:20260424T015721
CREATED:20181024T164028Z
LAST-MODIFIED:20181024T164028Z
UID:14023-1542222000-1542229200@www.worldbibleschool.net
SUMMARY:WBS Presentation and Seminar
DESCRIPTION:
URL:https://www.worldbibleschool.net/eventdetail/wbs-presentation-and-seminar/
LOCATION:Village church of Christ\, 2131 W. Hefner Road\, Village\, OK\, 73120\, United States
ATTACH;FMTTYPE=image/png:https://www.worldbibleschool.net/wp-content/uploads/2018/10/LogoIcon-1.png
END:VEVENT
BEGIN:VEVENT
DTSTART;TZID=UTC:20181030T183000
DTEND;TZID=UTC:20181030T203000
DTSTAMP:20260424T015721
CREATED:20180712T212321Z
LAST-MODIFIED:20181004T012148Z
UID:11866-1540924200-1540931400@www.worldbibleschool.net
SUMMARY:Nashville WBS Dinner
DESCRIPTION:Please join us!\nGod is still moving powerfully in our world. Plan to attend the upcoming World Bible School Benefit and Information Dinner and hear the message\, “God is Bigger!” The Good news of the Bible is still what the world needs. \nMarriott Nashville Airport\n600 Marriott Dr\nNashville\, TN 37214 \nRSVP
URL:https://www.worldbibleschool.net/eventdetail/nashville-wbs-dinner/
LOCATION:Marriott Nashville Airport\, 600 Marriott Dr\, Nashville\, TN\, 37214\, United States
ATTACH;FMTTYPE=image/jpeg:https://www.worldbibleschool.net/wp-content/uploads/2018/07/bnatn-ballroom-0014-hor-wide.jpg
ORGANIZER;CN="Sheryl Williams":MAILTO:rsvp@worldbibleschool.net
END:VEVENT
BEGIN:VEVENT
DTSTART;TZID=America/Chicago:20181028T090000
DTEND;TZID=America/Chicago:20181028T130000
DTSTAMP:20260424T015721
CREATED:20181017T200042Z
LAST-MODIFIED:20181017T202902Z
UID:13873-1540717200-1540731600@www.worldbibleschool.net
SUMMARY:WBS Class\, Presentation and Seminar
DESCRIPTION:
URL:https://www.worldbibleschool.net/eventdetail/wbs-class-presentation-and-seminar/
LOCATION:Central church of Christ\, 1250 SW College\, Topeka\, KS\, 66604\, United States
ATTACH;FMTTYPE=image/jpeg:https://www.worldbibleschool.net/wp-content/uploads/2018/10/Athens-cofC.jpg
END:VEVENT
BEGIN:VEVENT
DTSTART;TZID=UTC:20181016T183000
DTEND;TZID=UTC:20181016T203000
DTSTAMP:20260424T015721
CREATED:20180712T212053Z
LAST-MODIFIED:20181004T011926Z
UID:11861-1539714600-1539721800@www.worldbibleschool.net
SUMMARY:Searcy WBS Benefit Dinner
DESCRIPTION:Please join us!\n\nGod is still moving powerfully in our world. Plan to attend the upcoming World Bible School Benefit and Information Dinner and hear the message\, “God is Bigger!” The Good news of the Bible is still what the world needs. \nHarding University\, American Heritage Bldg\, Founders Room\n915 E Market Ave\nSearcy\, AR 72149 \nRSVP
URL:https://www.worldbibleschool.net/eventdetail/searcy-wbs-benefit-dinner/
LOCATION:Harding University\, American Heritage Bldg\, Founders Room\, 915 E Market Ave\, Searcy\, AR\, 72149\, United States
ATTACH;FMTTYPE=image/jpeg:https://www.worldbibleschool.net/wp-content/uploads/2018/07/Harding.jpg
ORGANIZER;CN="Sheryl Williams":MAILTO:rsvp@worldbibleschool.net
END:VEVENT
BEGIN:VEVENT
DTSTART;TZID=America/Chicago:20181014T180000
DTEND;TZID=America/Chicago:20181014T190000
DTSTAMP:20260424T015721
CREATED:20181008T164143Z
LAST-MODIFIED:20181009T153504Z
UID:13602-1539540000-1539543600@www.worldbibleschool.net
SUMMARY:WBS Presentation
DESCRIPTION:
URL:https://www.worldbibleschool.net/eventdetail/wbs-presentation-2/
LOCATION:Highway 36 church of Christ\, 10576 State Highway 36\, Abilene\, TX\, 79602\, United States
ATTACH;FMTTYPE=image/png:https://www.worldbibleschool.net/wp-content/uploads/2018/10/LogoIcon-1.png
END:VEVENT
BEGIN:VEVENT
DTSTART;TZID=UTC:20180920T110000
DTEND;TZID=UTC:20180922T170000
DTSTAMP:20260424T015721
CREATED:20180712T211629Z
LAST-MODIFIED:20180918T191249Z
UID:11858-1537441200-1537635600@www.worldbibleschool.net
SUMMARY:WBS Presentation & Display @ Northeast Men's Retreat
DESCRIPTION:Gander Brook Christian Camp\n27 Gander Brook Lane\nRaymond\, ME 4071
URL:https://www.worldbibleschool.net/eventdetail/wbs-presentation-display-northeast-mens-retreat/
LOCATION:Gander Brook Christian Camp\, 27 Gander Brook Lane \, Raymond\, ME\, 4071\, United States
ATTACH;FMTTYPE=image/jpeg:https://www.worldbibleschool.net/wp-content/uploads/2018/07/camp.jpg
END:VEVENT
BEGIN:VEVENT
DTSTART;TZID=UTC:20180907T183000
DTEND;TZID=UTC:20180907T203000
DTSTAMP:20260424T015721
CREATED:20180712T211125Z
LAST-MODIFIED:20180918T185549Z
UID:11852-1536345000-1536352200@www.worldbibleschool.net
SUMMARY:Austin WBS Dinner
DESCRIPTION:About the Event\nGod is still moving powerfully in our world. Plan to attend the upcoming World Bible School Benefit and Information Dinner and hear the message\, “God is Bigger!” Invite others and fill tables of ten! The Good news of the Bible is still what the world needs. \nRenaissance Austin Hotel\n9721 Arboretum Blvd\nAustin\, TX 78759 \nRSVP
URL:https://www.worldbibleschool.net/eventdetail/austin-wbs-dinner/
LOCATION:Renaissance Austin Hotel\, 9721 Arboretum Blvd \, Austin\, TX\, 78759\, United States
ATTACH;FMTTYPE=image/jpeg:https://www.worldbibleschool.net/wp-content/uploads/2018/07/Austin.jpeg
END:VEVENT
BEGIN:VEVENT
DTSTART;TZID=UTC:20180729T140000
DTEND;TZID=UTC:20180729T150000
DTSTAMP:20260424T015721
CREATED:20180712T210555Z
LAST-MODIFIED:20180918T190954Z
UID:11848-1532872800-1532876400@www.worldbibleschool.net
SUMMARY:WBS Presentation & Display
DESCRIPTION:Roseville church of Christ\n1799 Cirby Way\nRoseville\, CA 95661
URL:https://www.worldbibleschool.net/eventdetail/wbs-presentation-display-2/
LOCATION:Roseville church of Christ\, 1799 Cirby Way \, Roseville\, CA\, 95661\, United States
ATTACH;FMTTYPE=image/jpeg:https://www.worldbibleschool.net/wp-content/uploads/2018/07/church-1.jpg
END:VEVENT
BEGIN:VEVENT
DTSTART;TZID=UTC:20180729T094500
DTEND;TZID=UTC:20180729T120000
DTSTAMP:20260424T015721
CREATED:20180712T210247Z
LAST-MODIFIED:20180918T190851Z
UID:11843-1532857500-1532865600@www.worldbibleschool.net
SUMMARY:WBS Presentation & Display
DESCRIPTION:Orangevale church of Christ\n5915 Main Avenue\nOrangevale\, CA 95662
URL:https://www.worldbibleschool.net/eventdetail/wbs-presentation-display/
LOCATION:Orangevale church of Christ\, 5915 Main Avenue \, Orangevale\, CA\, 95662\, United States
ATTACH;FMTTYPE=image/jpeg:https://www.worldbibleschool.net/wp-content/uploads/2018/07/pews.jpg
END:VEVENT
BEGIN:VEVENT
DTSTART;TZID=UTC:20180719T183000
DTEND;TZID=UTC:20180719T193000
DTSTAMP:20260424T015721
CREATED:20180712T194328Z
LAST-MODIFIED:20180918T190754Z
UID:11838-1532025000-1532028600@www.worldbibleschool.net
SUMMARY:WBS Presentation
DESCRIPTION:Veneta church of Christ\n87808 Territorial Highway\nVeneta\, OR 97487
URL:https://www.worldbibleschool.net/eventdetail/wbs-presentation/
LOCATION:Veneta church of Christ\, 87808 Territorial Highway\, Veneta\, OR\, 97487\, United States
ATTACH;FMTTYPE=image/jpeg:https://www.worldbibleschool.net/wp-content/uploads/2018/07/church.jpg
END:VEVENT
BEGIN:VEVENT
DTSTART;TZID=UTC:20180712T120000
DTEND;TZID=UTC:20180714T150000
DTSTAMP:20260424T015721
CREATED:20180712T183228Z
LAST-MODIFIED:20180918T190120Z
UID:11822-1531396800-1531580400@www.worldbibleschool.net
SUMMARY:WBS Display @ Faith Builders Workshop
DESCRIPTION:Pacific Lutheran University – Mark Baker Russell Music Center Lagerquist Hall\n12180 Park Ave S.\nTacoma\, WA 98447 \n*Please call 512-345-8190 to RSVP
URL:https://www.worldbibleschool.net/eventdetail/wbs-display-faith-builders-workshop/
LOCATION:Pacific Lutheran University Mark Baker Russell Music Center Lagerquist Hall\, 12180 Park Ave S. \, Tacoma\, WA\, 98447\, United States
ATTACH;FMTTYPE=image/jpeg:https://www.worldbibleschool.net/wp-content/uploads/2018/07/Pacific.jpg
END:VEVENT
END:VCALENDAR