BEGIN:VCALENDAR
VERSION:2.0
PRODID:-//World Bible School - ECPv6.15.20//NONSGML v1.0//EN
CALSCALE:GREGORIAN
METHOD:PUBLISH
X-WR-CALNAME:World Bible School
X-ORIGINAL-URL:https://www.worldbibleschool.net
X-WR-CALDESC:Events for World Bible School
REFRESH-INTERVAL;VALUE=DURATION:PT1H
X-Robots-Tag:noindex
X-PUBLISHED-TTL:PT1H
BEGIN:VTIMEZONE
TZID:America/Chicago
BEGIN:DAYLIGHT
TZOFFSETFROM:-0600
TZOFFSETTO:-0500
TZNAME:CDT
DTSTART:20180311T080000
END:DAYLIGHT
BEGIN:STANDARD
TZOFFSETFROM:-0500
TZOFFSETTO:-0600
TZNAME:CST
DTSTART:20181104T070000
END:STANDARD
BEGIN:DAYLIGHT
TZOFFSETFROM:-0600
TZOFFSETTO:-0500
TZNAME:CDT
DTSTART:20190310T080000
END:DAYLIGHT
BEGIN:STANDARD
TZOFFSETFROM:-0500
TZOFFSETTO:-0600
TZNAME:CST
DTSTART:20191103T070000
END:STANDARD
BEGIN:DAYLIGHT
TZOFFSETFROM:-0600
TZOFFSETTO:-0500
TZNAME:CDT
DTSTART:20200308T080000
END:DAYLIGHT
BEGIN:STANDARD
TZOFFSETFROM:-0500
TZOFFSETTO:-0600
TZNAME:CST
DTSTART:20201101T070000
END:STANDARD
END:VTIMEZONE
BEGIN:VEVENT
DTSTART;TZID=America/Chicago:20190811T093000
DTEND;TZID=America/Chicago:20190811T120000
DTSTAMP:20260423T205129
CREATED:20190801T213904Z
LAST-MODIFIED:20190801T220306Z
UID:18181-1565515800-1565524800@www.worldbibleschool.net
SUMMARY:WBS Presentation in Mount Airy Georgia
DESCRIPTION:The World Bible School tools will be presented for the Habersham church of Christ in Mount Airy\, GA on August 11th at 10:30 am.  Please come\, if you are in the area and would also like to informed about the work of WBS.
URL:https://www.worldbibleschool.net/eventdetail/wbs-presentation-11-copy/
LOCATION:Habersham church of Christ\, 326 Double Bridge Connector\, Mount Airy\, GA\, 30531\, United States
ATTACH;FMTTYPE=image/jpeg:https://www.worldbibleschool.net/wp-content/uploads/2019/08/Habersham.jpg
END:VEVENT
BEGIN:VEVENT
DTSTART;VALUE=DATE:20190811
DTEND;VALUE=DATE:20190812
DTSTAMP:20260423T205129
CREATED:20190723T010603Z
LAST-MODIFIED:20190723T194112Z
UID:18002-1565481600-1565567999@www.worldbibleschool.net
SUMMARY:WBS Presentation in Clearwater Kansas
DESCRIPTION:
URL:https://www.worldbibleschool.net/eventdetail/wbs-presentation-11/
LOCATION:Clearwater church of Christ\, 1390 Diagonal Rd\, Clearwater\, 67026\, United States
ATTACH;FMTTYPE=image/jpeg:https://www.worldbibleschool.net/wp-content/uploads/2019/07/Clear-Water.jpg
END:VEVENT
BEGIN:VEVENT
DTSTART;TZID=America/Chicago:20190804T180000
DTEND;TZID=America/Chicago:20190804T190000
DTSTAMP:20260423T205129
CREATED:20190725T181149Z
LAST-MODIFIED:20190801T162110Z
UID:18087-1564941600-1564945200@www.worldbibleschool.net
SUMMARY:WBS Presentation in Biloxi Mississippi
DESCRIPTION:Steve Gober be will presenting the World Bible School tools for the Rodenberg church of Christ in Biloxi\, MS on August 4th. Please come and be informed about WBS.
URL:https://www.worldbibleschool.net/eventdetail/wbs-presentation-13-copy-copy-copy-2/
LOCATION:Rodenberg church of Christ\, 173 Rodenberg Ave\, Biloxi\, MS\, 39531\, United States
ATTACH;FMTTYPE=image/png:https://www.worldbibleschool.net/wp-content/uploads/2019/06/Logo-Bible-for-millionsWBS.png
END:VEVENT
BEGIN:VEVENT
DTSTART;TZID=America/Chicago:20190804T180000
DTEND;TZID=America/Chicago:20190804T190000
DTSTAMP:20260423T205129
CREATED:20190723T171421Z
LAST-MODIFIED:20190723T171848Z
UID:18045-1564941600-1564945200@www.worldbibleschool.net
SUMMARY:WBS Presentation in Mount Sterling Kentucky
DESCRIPTION:Rodger Chaffin be will presenting the World Bible School tools for the Rolling Hills church of Christ in Adrian\, MI on August 4th. Please come and be informed about WBS.
URL:https://www.worldbibleschool.net/eventdetail/wbs-presentation-13-copy-copy-copy/
LOCATION:Rolling Hills church of Christ\, 125 Rolling Hills Drive\, Mount Sterling\, KY\, 40353\, United States
ATTACH;FMTTYPE=image/jpeg:https://www.worldbibleschool.net/wp-content/uploads/2019/07/Rolling-Hills.jpg
END:VEVENT
BEGIN:VEVENT
DTSTART;TZID=America/Chicago:20190804T090000
DTEND;TZID=America/Chicago:20190804T120000
DTSTAMP:20260423T205129
CREATED:20190723T001145Z
LAST-MODIFIED:20190726T191317Z
UID:17997-1564909200-1564920000@www.worldbibleschool.net
SUMMARY:WBS Presentation in Sweeny Texas
DESCRIPTION:WBS will be presented at the Sweeny church of Christ\, august 4th. Please come and be informed about World Bible School.
URL:https://www.worldbibleschool.net/eventdetail/wbs-presentation-10/
LOCATION:Sweeny church of Christ\, 501 Elm Street\, Sweeny\, TX\, 77480
ATTACH;FMTTYPE=image/jpeg:https://www.worldbibleschool.net/wp-content/uploads/2019/07/79C41520-F5FC-4B0E-B6EF-52B8EE412B37.jpeg
END:VEVENT
BEGIN:VEVENT
DTSTART;TZID=America/Chicago:20190731T180000
DTEND;TZID=America/Chicago:20190731T190000
DTSTAMP:20260423T205129
CREATED:20190716T144312Z
LAST-MODIFIED:20190723T160907Z
UID:17914-1564596000-1564599600@www.worldbibleschool.net
SUMMARY:WBS Presentation in Throckmorton Texas
DESCRIPTION:Phil Palmer will present the tools of WBS for the Throckmorton congregation.
URL:https://www.worldbibleschool.net/eventdetail/wbs-presentation-8-copy/
LOCATION:Throckmorton church of Christ\, 111 Brown St.\, Throckmorton\, TX\, United States
ATTACH;FMTTYPE=image/png:https://www.worldbibleschool.net/wp-content/uploads/2019/06/Logo-Bible-for-millionsWBS.png
END:VEVENT
BEGIN:VEVENT
DTSTART;TZID=America/Chicago:20190728T180000
DTEND;TZID=America/Chicago:20190728T190000
DTSTAMP:20260423T205129
CREATED:20190723T135946Z
LAST-MODIFIED:20190801T161834Z
UID:18015-1564336800-1564340400@www.worldbibleschool.net
SUMMARY:WBS Presentation in Portland Texas
DESCRIPTION:Jim Crain be will presenting the tools of World Bible School at the North Bay church of Christ. Please come and be informed about WBS.
URL:https://www.worldbibleschool.net/eventdetail/wbs-presentation-13/
LOCATION:North Bay church of Christ\, 1501 Denver St.\, Portland\, TX\, 78374\, United States
ATTACH;FMTTYPE=image/png:https://www.worldbibleschool.net/wp-content/uploads/2019/06/Logo-Bible-for-millionsWBS.png
END:VEVENT
BEGIN:VEVENT
DTSTART;TZID=America/Chicago:20190728T040000
DTEND;TZID=America/Chicago:20190728T060000
DTSTAMP:20260423T205129
CREATED:20190723T174756Z
LAST-MODIFIED:20190723T175320Z
UID:18051-1564286400-1564293600@www.worldbibleschool.net
SUMMARY:WBS Presentation in Tulsa Oklahoma
DESCRIPTION:Richard Patton be will presenting the tools of World Bible School at the 10th& Rockford church of Christ in Tulsa\, OK on July 28th. This presentation will be followed with an seminar on starting a WBS program. Please come and be informed about WBS.
URL:https://www.worldbibleschool.net/eventdetail/wbs-presentation-13-copy-copy-2/
LOCATION:10th and Rockford church of Christ\, 829 S Rockford Ave\, Tulsa\, OK\, 74120\, United States
ATTACH;FMTTYPE=image/jpeg:https://www.worldbibleschool.net/wp-content/uploads/2019/07/10thandRockford.jpg
END:VEVENT
BEGIN:VEVENT
DTSTART;TZID=America/Chicago:20190721T090000
DTEND;TZID=America/Chicago:20190721T100000
DTSTAMP:20260423T205129
CREATED:20190716T165959Z
LAST-MODIFIED:20190716T170539Z
UID:17925-1563699600-1563703200@www.worldbibleschool.net
SUMMARY:WBS Presentation
DESCRIPTION:Richard Patton will present the tools of World Bible School that offer hope around the world and close to home. Come and be informed of the WBS tools and encouraged to become involved in using the tools that reach those searching for hope .
URL:https://www.worldbibleschool.net/eventdetail/a-word-of-hope-in-no-mans-land-copy/
LOCATION:Woodland Oaks church of Christ\, 7300 Crownridge Drive\, The Woodlands\, TX\, 77382\, United States
ATTACH;FMTTYPE=image/png:https://www.worldbibleschool.net/wp-content/uploads/2019/06/Logo-Bible-for-millionsWBS.png
END:VEVENT
BEGIN:VEVENT
DTSTART;VALUE=DATE:20190720
DTEND;VALUE=DATE:20190727
DTSTAMP:20260423T205129
CREATED:20190625T154413Z
LAST-MODIFIED:20190625T154413Z
UID:17570-1563580800-1564185599@www.worldbibleschool.net
SUMMARY:WBS Display
DESCRIPTION:
URL:https://www.worldbibleschool.net/eventdetail/wbs-display-3/
LOCATION:Tahoe Family Encampment\, Tahoe Valley Campground
ATTACH;FMTTYPE=image/jpeg:https://www.worldbibleschool.net/wp-content/uploads/2019/06/TahoeValleyCampground.jpg
END:VEVENT
BEGIN:VEVENT
DTSTART;TZID=America/Chicago:20190717T180000
DTEND;TZID=America/Chicago:20190717T190000
DTSTAMP:20260423T205129
CREATED:20190716T152646Z
LAST-MODIFIED:20190716T153242Z
UID:17919-1563386400-1563390000@www.worldbibleschool.net
SUMMARY:WBS Presentation
DESCRIPTION:Phil Palmer will offer training for WBS online study helpers.
URL:https://www.worldbibleschool.net/eventdetail/wbs-presentation-8-copy-copy/
LOCATION:Trent church of Christ\, 201 North Birch Street\, Trent\, TX\, 79561\, United States
END:VEVENT
BEGIN:VEVENT
DTSTART;TZID=America/Chicago:20190717T180000
DTEND;TZID=America/Chicago:20190717T190000
DTSTAMP:20260423T205129
CREATED:20190625T151459Z
LAST-MODIFIED:20190625T151459Z
UID:17566-1563386400-1563390000@www.worldbibleschool.net
SUMMARY:WBS Presentation
DESCRIPTION:
URL:https://www.worldbibleschool.net/eventdetail/wbs-presentation-9/
LOCATION:Eugene church of Christ\, 2424 Norkenzie Road\, Eugene\, OR\, 97408\, United States
ATTACH;FMTTYPE=image/jpeg:https://www.worldbibleschool.net/wp-content/uploads/2019/06/EugenecofC.jpg
END:VEVENT
BEGIN:VEVENT
DTSTART;VALUE=DATE:20190711
DTEND;VALUE=DATE:20190714
DTSTAMP:20260423T205129
CREATED:20190625T144907Z
LAST-MODIFIED:20190625T144907Z
UID:17562-1562803200-1563062399@www.worldbibleschool.net
SUMMARY:WBS Display
DESCRIPTION:
URL:https://www.worldbibleschool.net/eventdetail/wbs-display-2/
LOCATION:Lakeview church of Christ\, 1709 112th Street S.\, Tacoma\, WA\, 98444\, United States
ATTACH;FMTTYPE=image/jpeg:https://www.worldbibleschool.net/wp-content/uploads/2019/06/LakeviewcofC.jpg
END:VEVENT
BEGIN:VEVENT
DTSTART;TZID=America/Chicago:20190707T094500
DTEND;TZID=America/Chicago:20190707T114500
DTSTAMP:20260423T205129
CREATED:20190625T141909Z
LAST-MODIFIED:20190626T212233Z
UID:17551-1562492700-1562499900@www.worldbibleschool.net
SUMMARY:WBS Presentation
DESCRIPTION:
URL:https://www.worldbibleschool.net/eventdetail/wbs-presentation-8/
LOCATION:Belgrade church of Christ\, 909 Nevada St.\, Belgrade\, MT\, 59714\, United States
END:VEVENT
BEGIN:VEVENT
DTSTART;VALUE=DATE:20190707
DTEND;VALUE=DATE:20190711
DTSTAMP:20260423T205129
CREATED:20190716T144155Z
LAST-MODIFIED:20190716T144155Z
UID:17913-1562457600-1562803199@www.worldbibleschool.net
SUMMARY:WBS Presentation & Display  Copy
DESCRIPTION:
URL:https://www.worldbibleschool.net/eventdetail/wbs-presentation-display-4-copy/
LOCATION:Caribbean Leactureship\, Fairmount Southhampton Bermuda\, Southhampton\, Bermuda
ATTACH;FMTTYPE=image/jpeg:https://www.worldbibleschool.net/wp-content/uploads/2019/06/CaribbeanLectureship.jpg
END:VEVENT
BEGIN:VEVENT
DTSTART;VALUE=DATE:20190707
DTEND;VALUE=DATE:20190711
DTSTAMP:20260423T205129
CREATED:20190625T143729Z
LAST-MODIFIED:20190625T143729Z
UID:17555-1562457600-1562803199@www.worldbibleschool.net
SUMMARY:WBS Presentation & Display
DESCRIPTION:
URL:https://www.worldbibleschool.net/eventdetail/wbs-presentation-display-4/
LOCATION:Caribbean Leactureship\, Fairmount Southhampton Bermuda\, Southhampton\, Bermuda
ATTACH;FMTTYPE=image/jpeg:https://www.worldbibleschool.net/wp-content/uploads/2019/06/CaribbeanLectureship.jpg
END:VEVENT
BEGIN:VEVENT
DTSTART;TZID=America/Chicago:20190701T090000
DTEND;TZID=America/Chicago:20190701T100000
DTSTAMP:20260423T205129
CREATED:20190716T180901Z
LAST-MODIFIED:20190716T181747Z
UID:17930-1561971600-1561975200@www.worldbibleschool.net
SUMMARY:WBS Presentation and Seminar
DESCRIPTION:Richard Patton will present and afternoon seminar aon how to use the WBS tools. PLease come and be informed of the WBS tools and encouraged to become involved in using these tools to reach those searching for hope .
URL:https://www.worldbibleschool.net/eventdetail/a-word-of-hope-in-no-mans-land-copy-copy/
LOCATION:10th and Rockford church of Christ\, 829 S Rockford Ave\, Tulsa\, OK\, 74120\, United States
ATTACH;FMTTYPE=image/jpeg:https://www.worldbibleschool.net/wp-content/uploads/2019/07/10thandRockford.jpg
END:VEVENT
BEGIN:VEVENT
DTSTART;TZID=America/Chicago:20190519T180000
DTEND;TZID=America/Chicago:20190519T190000
DTSTAMP:20260423T205129
CREATED:20190503T162351Z
LAST-MODIFIED:20190503T163210Z
UID:16730-1558288800-1558292400@www.worldbibleschool.net
SUMMARY:WBS Presentation
DESCRIPTION:WBS Presentation at the Northside Church Of Christ in Wichita\, KS.\nCome learn how you can use the tools of World Bible School in your outreach efforts.\nMay 19\, 2019   6 – 7 PM\n4545 N. Meridian\nWichita\, KS
URL:https://www.worldbibleschool.net/eventdetail/wbs-presentation-7-copy/
LOCATION:Nortside Church of Christ\, 45445 N. Meridian Ave\, Wichita\, KS\, 67204\, United States
ATTACH;FMTTYPE=image/jpeg:https://www.worldbibleschool.net/wp-content/uploads/2019/05/NSCC-Wichita-KS.jpg
END:VEVENT
BEGIN:VEVENT
DTSTART;TZID=America/Chicago:20190519T100000
DTEND;TZID=America/Chicago:20190519T143000
DTSTAMP:20260423T205129
CREATED:20190306T211532Z
LAST-MODIFIED:20190503T164350Z
UID:15787-1558260000-1558276200@www.worldbibleschool.net
SUMMARY:WBS Presentation & Seminar
DESCRIPTION:Bill Colwell will offer a Bible Class and a presentation on WBS Tools for sharing Jesus. \nA WBS Seminar will further explain how to use Postal and Online lesson\, as well as Connect for local outreach. Come and learn how to put these tools to work in your congregation. \n 
URL:https://www.worldbibleschool.net/eventdetail/wbs-display-copy-copy-copy/
LOCATION:12th & Walnut Church of Christ\, 12th & Walnut\, Beliot\, KS\, 67420
ATTACH;FMTTYPE=image/png:https://www.worldbibleschool.net/wp-content/uploads/2019/05/Screenshot-561.png
END:VEVENT
BEGIN:VEVENT
DTSTART;TZID=America/Chicago:20190514T183000
DTEND;TZID=America/Chicago:20190514T203000
DTSTAMP:20260423T205129
CREATED:20190503T141134Z
LAST-MODIFIED:20190503T181746Z
UID:16699-1557858600-1557865800@www.worldbibleschool.net
SUMMARY:Florence Alabama WBS Benefit Dinner
DESCRIPTION:Please join us for a WBS Benefit Dinner!\nGod is still moving powerfully in our world. Plan to attend the upcoming World Bible School Benefit and Information Dinner.   The Good News of the Bible is still what the world needs. \nFlorence Blvd Church of Christ\nRSVP by May 7th\, 2019\n2502 Florence Blvd\nFlorence\, AL 35630 \nRSVP
URL:https://www.worldbibleschool.net/eventdetail/dallas-wbs-dinner-copy/
LOCATION:Florence Blvd. Church of Christ\, 2502 Florence Blvd\, Florence\, AL\, 35630\, United States
ATTACH;FMTTYPE=image/png:https://www.worldbibleschool.net/wp-content/uploads/2019/05/Screenshot-562.png
ORGANIZER;CN="Sheryl Williams":MAILTO:rsvp@worldbibleschool.net
END:VEVENT
BEGIN:VEVENT
DTSTART;TZID=America/Chicago:20190512T160000
DTEND;TZID=America/Chicago:20190512T180000
DTSTAMP:20260423T205129
CREATED:20190305T190957Z
LAST-MODIFIED:20190503T182951Z
UID:15747-1557676800-1557684000@www.worldbibleschool.net
SUMMARY:WBS Seminar & Presentation
DESCRIPTION:Bill Colwell will offer a Bible Class and a presentation on WBS Tools for sharing Jesus. \nA WBS Seminar will further explain how to use Postal and Online lesson\, as well as Connect for local outreach. Come and learn how to put these tools to work in your congregation.
URL:https://www.worldbibleschool.net/eventdetail/wbs-seminar-presentation/
LOCATION:Peachtree City church of Christ\, 201 S. Peachtree Parkway\, Peachtree City\, GA\, 30269\, United States
ATTACH;FMTTYPE=image/png:https://www.worldbibleschool.net/wp-content/uploads/2019/03/Screenshot-563.png
END:VEVENT
BEGIN:VEVENT
DTSTART;TZID=America/Chicago:20190511T100000
DTEND;TZID=America/Chicago:20190511T123000
DTSTAMP:20260423T205129
CREATED:20190305T190141Z
LAST-MODIFIED:20190326T155636Z
UID:15743-1557568800-1557577800@www.worldbibleschool.net
SUMMARY:Chattanooga WBS Seminar
DESCRIPTION:Come learn about new WBS tools and how to use them! \nRSVP
URL:https://www.worldbibleschool.net/eventdetail/wbs-seminar/
LOCATION:East Ridge church of Christ\, 951 McBrien Road\, Chattanooga\, TN\, 37412\, United States
ATTACH;FMTTYPE=image/png:https://www.worldbibleschool.net/wp-content/uploads/2019/03/c1e06b_fe32614054d84694afdfb8ba2a5c18a1_mv2.png
END:VEVENT
BEGIN:VEVENT
DTSTART;TZID=America/Chicago:20190428T180000
DTEND;TZID=America/Chicago:20190428T190000
DTSTAMP:20260423T205129
CREATED:20190305T164533Z
LAST-MODIFIED:20190305T170642Z
UID:15735-1556474400-1556478000@www.worldbibleschool.net
SUMMARY:WBS Presentation
DESCRIPTION:
URL:https://www.worldbibleschool.net/eventdetail/wbs-presentation-4-copy/
LOCATION:A&M Church of Christ Chapel\, 2475 Earl Rudder Freeway S.\, College Station\, TX\, 77845\, United States
ATTACH;FMTTYPE=image/jpeg:https://www.worldbibleschool.net/wp-content/uploads/2019/03/Church.jpg
END:VEVENT
BEGIN:VEVENT
DTSTART;TZID=America/Chicago:20190427T093000
DTEND;TZID=America/Chicago:20190427T113000
DTSTAMP:20260423T205129
CREATED:20190409T143928Z
LAST-MODIFIED:20190409T143928Z
UID:16470-1556357400-1556364600@www.worldbibleschool.net
SUMMARY:WBS Seminar
DESCRIPTION:Come learn how you can use WBS tools to share Jesus!
URL:https://www.worldbibleschool.net/eventdetail/wbs-seminar-2/
LOCATION:South Main church of Christ\, 201 S Main St\, Weatherford\, 76086\, United States
ATTACH;FMTTYPE=image/jpeg:https://www.worldbibleschool.net/wp-content/uploads/2019/04/800px-Henderson_July_2017_20_South_Main_Church_of_Christ.jpg
END:VEVENT
BEGIN:VEVENT
DTSTART;TZID=America/Chicago:20190417T190000
DTEND;TZID=America/Chicago:20190417T200000
DTSTAMP:20260423T205129
CREATED:20190403T144749Z
LAST-MODIFIED:20190403T144749Z
UID:16363-1555527600-1555531200@www.worldbibleschool.net
SUMMARY:WBS Presentation
DESCRIPTION:Come learn how you can use WBS in your outreach efforts.
URL:https://www.worldbibleschool.net/eventdetail/wbs-presentation-7/
LOCATION:Mason church of Christ\, 230 E. College\, Mason\, TX\, 76856\, United States
END:VEVENT
BEGIN:VEVENT
DTSTART;TZID=America/Chicago:20190410T190000
DTEND;TZID=America/Chicago:20190410T200000
DTSTAMP:20260423T205129
CREATED:20190402T142822Z
LAST-MODIFIED:20190402T142822Z
UID:16337-1554922800-1554926400@www.worldbibleschool.net
SUMMARY:WBS Presentation
DESCRIPTION:Come see how WBS can help you share Jesus!
URL:https://www.worldbibleschool.net/eventdetail/wbs-presentation-6/
LOCATION:Elm Street church of Christ\, 217 W. Elm Street\, Coleman\, TX\, 76834\, United States
ATTACH;FMTTYPE=image/jpeg:https://www.worldbibleschool.net/wp-content/uploads/2019/04/coleman-churchofchrist-2003-03-2.jpg
END:VEVENT
BEGIN:VEVENT
DTSTART;TZID=America/Chicago:20190409T183000
DTEND;TZID=America/Chicago:20190409T203000
DTSTAMP:20260423T205129
CREATED:20190125T171639Z
LAST-MODIFIED:20190125T172237Z
UID:15134-1554834600-1554841800@www.worldbibleschool.net
SUMMARY:Dallas WBS Dinner
DESCRIPTION:Please join us!\nDouble Tree Dallas Campbell Centre\n8250 North Central Expressway\nDallas\, TX 75206 \nRSVP
URL:https://www.worldbibleschool.net/eventdetail/dallas-wbs-dinner/
LOCATION:Double Tree Dallas Campbell Centre\, 8250 North Central Expressway\, Dallas\, TX\, 75206\, United States
ATTACH;FMTTYPE=image/png:https://www.worldbibleschool.net/wp-content/uploads/2019/01/DoubleTree.png
END:VEVENT
BEGIN:VEVENT
DTSTART;TZID=America/Chicago:20190407T093000
DTEND;TZID=America/Chicago:20190407T143000
DTSTAMP:20260423T205129
CREATED:20190326T184400Z
LAST-MODIFIED:20190326T193954Z
UID:16097-1554629400-1554647400@www.worldbibleschool.net
SUMMARY:WBS Class\, Sermon & Seminar
DESCRIPTION:Come learn how you can share Jesus with others with WBS!
URL:https://www.worldbibleschool.net/eventdetail/wbs-class-serman-seminar/
LOCATION:Alamogordo church of Christ\, 1312 20th Street\, Alamogordo\, New Mexico\, 88310
ATTACH;FMTTYPE=image/jpeg:https://www.worldbibleschool.net/wp-content/uploads/2019/03/AlamogordoCofC.jpg
END:VEVENT
BEGIN:VEVENT
DTSTART;TZID=America/Chicago:20190405T190000
DTEND;TZID=America/Chicago:20190405T200000
DTSTAMP:20260423T205129
CREATED:20190212T170740Z
LAST-MODIFIED:20190212T170740Z
UID:15365-1554490800-1554494400@www.worldbibleschool.net
SUMMARY:A Word of Hope in No Man's Land
DESCRIPTION:Richard Patton will present the tools of World Bible School that offer hope around the world and close to home. Come and be informed of the WBS tools and encouraged to become involved in using those tools to reach those searchng for hope .
URL:https://www.worldbibleschool.net/eventdetail/a-word-of-hope-in-no-mans-land/
LOCATION:Wolf Point church of Christ\, 121 Benton St.\, Wolf Point\, MT\, 59201\, United States
ATTACH;FMTTYPE=image/png:https://www.worldbibleschool.net/wp-content/uploads/2019/02/Screenshot-458.png
ORGANIZER;CN="Montana State Lectureship":MAILTO:contact@wpchurchofchrist.org
END:VEVENT
BEGIN:VEVENT
DTSTART;VALUE=DATE:20190327
DTEND;VALUE=DATE:20190331
DTSTAMP:20260423T205129
CREATED:20200212T222545Z
LAST-MODIFIED:20200212T222545Z
UID:22500-1553644800-1553990399@www.worldbibleschool.net
SUMMARY:WBS Presentaion and Display at Revive Us Again Evangelism & Church Growth Workshop  Copy
DESCRIPTION:Please Join Us and learn about the WBS tools for sharing Jesus. The Study Edition Bible\, Postal Lessons\, Online lesson\, Connect\, Spoken\, and Mathetis. Learn how to put these tools to work in your congregation.
URL:https://www.worldbibleschool.net/eventdetail/wbs-presentation-display-3-copy/
LOCATION:Faith Village church of Christ\, 4100 McNeil Avenue\, Wichita Falls\, Texas\, 76308
ATTACH;FMTTYPE=image/png:https://www.worldbibleschool.net/wp-content/uploads/2019/02/Screenshot-475.png
END:VEVENT
END:VCALENDAR