BEGIN:VCALENDAR
VERSION:2.0
PRODID:-//World Bible School - ECPv6.15.20//NONSGML v1.0//EN
CALSCALE:GREGORIAN
METHOD:PUBLISH
X-ORIGINAL-URL:https://www.worldbibleschool.net
X-WR-CALDESC:Events for World Bible School
REFRESH-INTERVAL;VALUE=DURATION:PT1H
X-Robots-Tag:noindex
X-PUBLISHED-TTL:PT1H
BEGIN:VTIMEZONE
TZID:America/Chicago
BEGIN:DAYLIGHT
TZOFFSETFROM:-0600
TZOFFSETTO:-0500
TZNAME:CDT
DTSTART:20180311T080000
END:DAYLIGHT
BEGIN:STANDARD
TZOFFSETFROM:-0500
TZOFFSETTO:-0600
TZNAME:CST
DTSTART:20181104T070000
END:STANDARD
BEGIN:DAYLIGHT
TZOFFSETFROM:-0600
TZOFFSETTO:-0500
TZNAME:CDT
DTSTART:20190310T080000
END:DAYLIGHT
BEGIN:STANDARD
TZOFFSETFROM:-0500
TZOFFSETTO:-0600
TZNAME:CST
DTSTART:20191103T070000
END:STANDARD
BEGIN:DAYLIGHT
TZOFFSETFROM:-0600
TZOFFSETTO:-0500
TZNAME:CDT
DTSTART:20200308T080000
END:DAYLIGHT
BEGIN:STANDARD
TZOFFSETFROM:-0500
TZOFFSETTO:-0600
TZNAME:CST
DTSTART:20201101T070000
END:STANDARD
BEGIN:DAYLIGHT
TZOFFSETFROM:-0600
TZOFFSETTO:-0500
TZNAME:CDT
DTSTART:20210314T080000
END:DAYLIGHT
BEGIN:STANDARD
TZOFFSETFROM:-0500
TZOFFSETTO:-0600
TZNAME:CST
DTSTART:20211107T070000
END:STANDARD
END:VTIMEZONE
BEGIN:VEVENT
DTSTART;TZID=America/Chicago:20201014T190000
DTEND;TZID=America/Chicago:20201014T200000
DTSTAMP:20260423T124800
CREATED:20200928T143539Z
LAST-MODIFIED:20200928T143539Z
UID:26857-1602702000-1602705600@www.worldbibleschool.net
SUMMARY:WBS Presentation in Jackson\, MO
DESCRIPTION:
URL:https://www.worldbibleschool.net/eventdetail/wbs-presentation-in-jackson-mo/
LOCATION:Fruitland church of Christ\, 10387 State Hwy W\, Jackson\, MO\, 63755\, United States
ATTACH;FMTTYPE=image/png:https://www.worldbibleschool.net/wp-content/uploads/2019/06/Logo-Bible-for-millionsWBS.png
END:VEVENT
BEGIN:VEVENT
DTSTART;TZID=America/Chicago:20200913T090000
DTEND;TZID=America/Chicago:20200913T110000
DTSTAMP:20260423T124800
CREATED:20200909T151727Z
LAST-MODIFIED:20200909T151727Z
UID:26647-1599987600-1599994800@www.worldbibleschool.net
SUMMARY:WBS Presentation in Portales\, NM
DESCRIPTION:
URL:https://www.worldbibleschool.net/eventdetail/wbs-presentation-in-portales-nm/
LOCATION:3rd & Kilgore church of Christ\, 1701 E 3rd St.\, Portales\, NM\, 88130\, United States
ATTACH;FMTTYPE=image/jpeg:https://www.worldbibleschool.net/wp-content/uploads/2020/09/3rdKilgore.jpg
END:VEVENT
BEGIN:VEVENT
DTSTART;TZID=America/Chicago:20200823T093000
DTEND;TZID=America/Chicago:20200823T103000
DTSTAMP:20260423T124800
CREATED:20200326T132320Z
LAST-MODIFIED:20200707T134048Z
UID:24142-1598175000-1598178600@www.worldbibleschool.net
SUMMARY:WBS Presentation in Coffeyville\, KS
DESCRIPTION:
URL:https://www.worldbibleschool.net/eventdetail/wbs-presentation-in-coffeyville-ks/
LOCATION:Coffeyville church of Christ\, 1005 Siggins St\, Coffeyville\, KS\, 67337\, United States
ATTACH;FMTTYPE=image/jpeg:https://www.worldbibleschool.net/wp-content/uploads/2020/03/Coffeeville.jpg
END:VEVENT
BEGIN:VEVENT
DTSTART;TZID=America/Chicago:20200816T093000
DTEND;TZID=America/Chicago:20200816T101500
DTSTAMP:20260423T124800
CREATED:20191112T171453Z
LAST-MODIFIED:20200525T162645Z
UID:18866-1597570200-1597572900@www.worldbibleschool.net
SUMMARY:WBS Presentation at Sallisaw\, OK
DESCRIPTION:
URL:https://www.worldbibleschool.net/eventdetail/wbs-presentation-at-sallisaw-ok/
LOCATION:Sallisaw church of Christ\, 1104 East Choctaw Ave\, Sallisaw\, OK\, 74955\, United States
ATTACH;FMTTYPE=image/png:https://www.worldbibleschool.net/wp-content/uploads/2019/06/Logo-Bible-for-millionsWBS.png
END:VEVENT
BEGIN:VEVENT
DTSTART;TZID=America/Chicago:20200809T093000
DTEND;TZID=America/Chicago:20200809T103000
DTSTAMP:20260423T124800
CREATED:20200326T134323Z
LAST-MODIFIED:20200512T160847Z
UID:24147-1596965400-1596969000@www.worldbibleschool.net
SUMMARY:WBS Presentation in Elk City\, OK
DESCRIPTION:
URL:https://www.worldbibleschool.net/eventdetail/wbs-presentation-in-elk-city-ok/
LOCATION:Second & Adams church of Christ\, 216 N Adams Ave\, Elk City\, OK\, 73648\, United States
ATTACH;FMTTYPE=image/jpeg:https://www.worldbibleschool.net/wp-content/uploads/2020/03/secondandadams.jpg
END:VEVENT
BEGIN:VEVENT
DTSTART;TZID=America/Chicago:20200802T083000
DTEND;TZID=America/Chicago:20200802T213000
DTSTAMP:20260423T124800
CREATED:20200708T163840Z
LAST-MODIFIED:20200708T163840Z
UID:26168-1596357000-1596403800@www.worldbibleschool.net
SUMMARY:WBS Presentation in Columbia Falls\, MT
DESCRIPTION:
URL:https://www.worldbibleschool.net/eventdetail/wbs-presentation-in-columbia-falls-mt/
LOCATION:Glacier church of Christ\, 1203 2 Ave W.\, Columbia Falls\, MT\, 59912\, United States
ATTACH;FMTTYPE=image/jpeg:https://www.worldbibleschool.net/wp-content/uploads/2020/07/GCOC-Street-View.jpg
END:VEVENT
BEGIN:VEVENT
DTSTART;TZID=America/Chicago:20200726T103000
DTEND;TZID=America/Chicago:20200726T113000
DTSTAMP:20260423T124800
CREATED:20200708T163327Z
LAST-MODIFIED:20200708T163327Z
UID:26163-1595759400-1595763000@www.worldbibleschool.net
SUMMARY:WBS Presentation in Kalispell\, MT
DESCRIPTION:
URL:https://www.worldbibleschool.net/eventdetail/wbs-presentation-in-kalispell-mt/
LOCATION:Kalispell chruch of Christ\, 241 Stillwater Road\, Kalispell\, MT\, 59901\, United States
ATTACH;FMTTYPE=image/jpeg:https://www.worldbibleschool.net/wp-content/uploads/2020/07/KalispellcoC-2.jpg
END:VEVENT
BEGIN:VEVENT
DTSTART;TZID=America/Chicago:20200726T093000
DTEND;TZID=America/Chicago:20200726T103000
DTSTAMP:20260423T124800
CREATED:20191218T204021Z
LAST-MODIFIED:20200525T163135Z
UID:20279-1595755800-1595759400@www.worldbibleschool.net
SUMMARY:WBS Presentation at Blackwell\, OK
DESCRIPTION:
URL:https://www.worldbibleschool.net/eventdetail/wbs-presentation-14/
LOCATION:Blackwell church of Christ\, 1035 S. Main Street\, Blackwell\, OK\, 74631\, United States
ATTACH;FMTTYPE=image/jpeg:https://www.worldbibleschool.net/wp-content/uploads/2019/12/Blackwellcofc.jpg
END:VEVENT
BEGIN:VEVENT
DTSTART;TZID=America/Chicago:20200426T102000
DTEND;TZID=America/Chicago:20200426T113000
DTSTAMP:20260423T124800
CREATED:20200218T163657Z
LAST-MODIFIED:20200218T164758Z
UID:22747-1587896400-1587900600@www.worldbibleschool.net
SUMMARY:WBS Presentation in Lampasas\, TX
DESCRIPTION:
URL:https://www.worldbibleschool.net/eventdetail/wbs-presentation-in-lampasas-tx/
LOCATION:First Street church of Christ\, 201 W First St\, Lampasas\, TX\, 76550\, United States
ATTACH;FMTTYPE=image/png:https://www.worldbibleschool.net/wp-content/uploads/2019/06/Logo-Bible-for-millionsWBS.png
END:VEVENT
BEGIN:VEVENT
DTSTART;TZID=America/Chicago:20200426T093000
DTEND;TZID=America/Chicago:20200426T222000
DTSTAMP:20260423T124800
CREATED:20200218T163434Z
LAST-MODIFIED:20200218T164907Z
UID:22744-1587893400-1587939600@www.worldbibleschool.net
SUMMARY:WBS Class in Lampasas\, TX
DESCRIPTION:
URL:https://www.worldbibleschool.net/eventdetail/wbs-class-in-lampasas-tx/
LOCATION:First Street church of Christ\, 201 W First St\, Lampasas\, TX\, 76550\, United States
ATTACH;FMTTYPE=image/png:https://www.worldbibleschool.net/wp-content/uploads/2019/06/Logo-Bible-for-millionsWBS.png
END:VEVENT
BEGIN:VEVENT
DTSTART;TZID=America/Chicago:20200426T093000
DTEND;TZID=America/Chicago:20200426T103000
DTSTAMP:20260423T124800
CREATED:20200326T135100Z
LAST-MODIFIED:20200326T135100Z
UID:24151-1587893400-1587897000@www.worldbibleschool.net
SUMMARY:WBS Presentation in Wichita\, KS
DESCRIPTION:
URL:https://www.worldbibleschool.net/eventdetail/wbs-presentation-in-wichita-ks/
LOCATION:West Douglas church of Christ\, 1924 W. Douglas\, Wichita\, KS\, 67203\, United States
ATTACH;FMTTYPE=image/jpeg:https://www.worldbibleschool.net/wp-content/uploads/2020/03/West-Douglas.jpg
END:VEVENT
BEGIN:VEVENT
DTSTART;TZID=America/Chicago:20200405T110000
DTEND;TZID=America/Chicago:20200405T120000
DTSTAMP:20260423T124800
CREATED:20200218T162915Z
LAST-MODIFIED:20200218T162915Z
UID:22742-1586084400-1586088000@www.worldbibleschool.net
SUMMARY:WBS Presentation in Jamestown\, TN
DESCRIPTION:
URL:https://www.worldbibleschool.net/eventdetail/wbs-presentation-in-jamestown-tn/
LOCATION:Jamestown church of Christ\, 844 Old Highway 127 S\, Jamestown\, TN\, 38556\, United States
ATTACH;FMTTYPE=image/jpeg:https://www.worldbibleschool.net/wp-content/uploads/2020/02/Jamestown-2.jpg
END:VEVENT
BEGIN:VEVENT
DTSTART;TZID=America/Chicago:20200405T100000
DTEND;TZID=America/Chicago:20200405T110000
DTSTAMP:20260423T124800
CREATED:20200218T162654Z
LAST-MODIFIED:20200218T162654Z
UID:22738-1586080800-1586084400@www.worldbibleschool.net
SUMMARY:WBS Class in Jamestown\, TN
DESCRIPTION:
URL:https://www.worldbibleschool.net/eventdetail/wbs-class-in-jamestown-tn/
LOCATION:Jamestown church of Christ\, 844 Old Highway 127 S\, Jamestown\, TN\, 38556\, United States
ATTACH;FMTTYPE=image/jpeg:https://www.worldbibleschool.net/wp-content/uploads/2020/02/Jamestown-2.jpg
END:VEVENT
BEGIN:VEVENT
DTSTART;VALUE=DATE:20200325
DTEND;VALUE=DATE:20200329
DTSTAMP:20260423T124800
CREATED:20190225T152733Z
LAST-MODIFIED:20200212T223511Z
UID:15551-1585094400-1585439999@www.worldbibleschool.net
SUMMARY:WBS Presentaion and Display at Revive Us Again Evangelism & Church Growth Workshop
DESCRIPTION:Please Join Us and learn about the WBS tools for Sharing Jesus. Learn about Mathetis\, our newest tool from WBS and how it can help reach newer generations. Learn also about what is coming in 2020 for The Study Edition Bibles\, Postal and Online lessons and Connect. 
URL:https://www.worldbibleschool.net/eventdetail/wbs-presentation-display-3/
LOCATION:Faith Village church of Christ\, 4100 McNeil Avenue\, Wichita Falls\, Texas\, 76308
ATTACH;FMTTYPE=image/png:https://www.worldbibleschool.net/wp-content/uploads/2019/02/Screenshot-475.png
END:VEVENT
BEGIN:VEVENT
DTSTART;TZID=America/Chicago:20200308T140000
DTEND;TZID=America/Chicago:20200308T150000
DTSTAMP:20260423T124800
CREATED:20200218T161818Z
LAST-MODIFIED:20200218T165037Z
UID:22736-1583676000-1583679600@www.worldbibleschool.net
SUMMARY:WBS Seminar in Lanett\, AL
DESCRIPTION:
URL:https://www.worldbibleschool.net/eventdetail/wbs-presentation-in-lanett-al-2/
LOCATION:Lanett church of Christ\, 706 S 13th St\, Lanett\, AL\, 36863\, United States
ATTACH;FMTTYPE=image/jpeg:https://www.worldbibleschool.net/wp-content/uploads/2020/02/Lanett.jpg
END:VEVENT
BEGIN:VEVENT
DTSTART;TZID=America/Chicago:20200308T110000
DTEND;TZID=America/Chicago:20200308T120000
DTSTAMP:20260423T124800
CREATED:20200218T161450Z
LAST-MODIFIED:20200218T165137Z
UID:22734-1583665200-1583668800@www.worldbibleschool.net
SUMMARY:WBS Presentation in Lanett\, AL
DESCRIPTION:
URL:https://www.worldbibleschool.net/eventdetail/wbs-presentation-in-lanett-al/
LOCATION:Lanett church of Christ\, 706 S 13th St\, Lanett\, AL\, 36863\, United States
ATTACH;FMTTYPE=image/jpeg:https://www.worldbibleschool.net/wp-content/uploads/2020/02/Lanett.jpg
END:VEVENT
BEGIN:VEVENT
DTSTART;TZID=America/Chicago:20200308T100000
DTEND;TZID=America/Chicago:20200308T230000
DTSTAMP:20260423T124800
CREATED:20200218T161302Z
LAST-MODIFIED:20200218T161302Z
UID:22730-1583661600-1583708400@www.worldbibleschool.net
SUMMARY:WBS Class in Lanett\, AL
DESCRIPTION:
URL:https://www.worldbibleschool.net/eventdetail/wbs-class-in-lanett-al/
LOCATION:Lanett church of Christ\, 706 S 13th St\, Lanett\, AL\, 36863\, United States
ATTACH;FMTTYPE=image/jpeg:https://www.worldbibleschool.net/wp-content/uploads/2020/02/Lanett.jpg
END:VEVENT
BEGIN:VEVENT
DTSTART;TZID=America/Chicago:20200304T183000
DTEND;TZID=America/Chicago:20200304T193000
DTSTAMP:20260423T124800
CREATED:20200218T155940Z
LAST-MODIFIED:20200218T160147Z
UID:22722-1583346600-1583350200@www.worldbibleschool.net
SUMMARY:WBS Presentation in Dothan\, AL
DESCRIPTION:
URL:https://www.worldbibleschool.net/eventdetail/wbs-presentation-16/
LOCATION:Westgate church of Christ\, 617 Westgate Pkwy\, Dothan\, AL\, 36303\, United States
ATTACH;FMTTYPE=image/jpeg:https://www.worldbibleschool.net/wp-content/uploads/2020/02/Westgate.jpg
END:VEVENT
BEGIN:VEVENT
DTSTART;TZID=America/Chicago:20200223T100000
DTEND;TZID=America/Chicago:20200223T110000
DTSTAMP:20260423T124800
CREATED:20200218T155309Z
LAST-MODIFIED:20200218T160233Z
UID:22718-1582452000-1582455600@www.worldbibleschool.net
SUMMARY:WBS Presentation in Hico\, TX
DESCRIPTION:
URL:https://www.worldbibleschool.net/eventdetail/wbs-presentation-15/
LOCATION:Hico church of Christ\, 301 Pecan St.\, Hico\, TX\, 76457\, United States
ATTACH;FMTTYPE=image/png:https://www.worldbibleschool.net/wp-content/uploads/2019/06/Logo-Bible-for-millionsWBS.png
END:VEVENT
BEGIN:VEVENT
DTSTART;TZID=America/Chicago:20191208T090000
DTEND;TZID=America/Chicago:20191208T100000
DTSTAMP:20260423T124800
CREATED:20191118T162545Z
LAST-MODIFIED:20191118T162545Z
UID:19084-1575795600-1575799200@www.worldbibleschool.net
SUMMARY:WBS Presentation at Broken Arrow\, OK
DESCRIPTION:
URL:https://www.worldbibleschool.net/eventdetail/wbs-presentation-at-broken-arrow-ok/
LOCATION:Broken Arrow church of Christ\, 505 E Kenosha Street\, Broken Arrow\, OK\, 74012\, United States
ATTACH;FMTTYPE=image/jpeg:https://www.worldbibleschool.net/wp-content/uploads/2019/11/Broken-Arrow.jpg
END:VEVENT
BEGIN:VEVENT
DTSTART;TZID=America/Chicago:20191201T093000
DTEND;TZID=America/Chicago:20191201T103000
DTSTAMP:20260423T124800
CREATED:20191118T155725Z
LAST-MODIFIED:20191118T155725Z
UID:19079-1575192600-1575196200@www.worldbibleschool.net
SUMMARY:WBS Presentation at Vilonia\, AR
DESCRIPTION:
URL:https://www.worldbibleschool.net/eventdetail/wbs-presentation-at-vilonia-ar/
LOCATION:Mars Hill church of Christ\, Hwy 64 E\, Vilonia\, AR\, 72173-0185\, United States
ATTACH;FMTTYPE=image/jpeg:https://www.worldbibleschool.net/wp-content/uploads/2019/11/Mars-Hill.jpg
END:VEVENT
BEGIN:VEVENT
DTSTART;TZID=America/Chicago:20191110T180000
DTEND;TZID=America/Chicago:20191110T190000
DTSTAMP:20260423T124800
CREATED:20190903T184854Z
LAST-MODIFIED:20190903T184854Z
UID:18450-1573408800-1573412400@www.worldbibleschool.net
SUMMARY:WBS Presentation in Prattville\, AL
DESCRIPTION:
URL:https://www.worldbibleschool.net/eventdetail/wbs-presentation-in-prattville-al/
LOCATION:Prattville church of Christ\, 344 E Main St\, Prattville\, AL\, 36067\, United States
ATTACH;FMTTYPE=image/jpeg:https://www.worldbibleschool.net/wp-content/uploads/2019/09/Prattvillecofc.jpg
END:VEVENT
BEGIN:VEVENT
DTSTART;TZID=America/Chicago:20191029T183000
DTEND;TZID=America/Chicago:20191029T203000
DTSTAMP:20260423T124800
CREATED:20190503T154354Z
LAST-MODIFIED:20190503T181117Z
UID:16715-1572373800-1572381000@www.worldbibleschool.net
SUMMARY:Nashville WBS Benefit Dinner
DESCRIPTION:Please join us for a WBS Benefit Dinner!\nJoin us October 29th to attend the World Bible School Benefit and Information Dinner. \nNashville Airport Marriot \nRSVP by OCT 22\, 2019\n600 Marriot Dr.\nNashville\, TN 37214 \nRSVP
URL:https://www.worldbibleschool.net/eventdetail/dallas-wbs-dinner-copy-copy/
LOCATION:Marriott Nashville Airport\, 600 Marriott Dr\, Nashville\, TN\, 37214\, United States
ATTACH;FMTTYPE=image/jpeg:https://www.worldbibleschool.net/wp-content/uploads/2019/05/Nashville-Airport-Marriot.jpg
ORGANIZER;CN="Sheryl Williams":MAILTO:rsvp@worldbibleschool.net
END:VEVENT
BEGIN:VEVENT
DTSTART;TZID=America/Chicago:20191027T093000
DTEND;TZID=America/Chicago:20191027T103000
DTSTAMP:20260423T124800
CREATED:20191018T142638Z
LAST-MODIFIED:20191018T143927Z
UID:18712-1572168600-1572172200@www.worldbibleschool.net
SUMMARY:WBS Presentation in Weatherford\, TX
DESCRIPTION:
URL:https://www.worldbibleschool.net/eventdetail/wbs-presentation-in-weatherford-tx/
LOCATION:North Main church of Christ\, 1302 N Main St\, Weatherford\, TX\, 76086\, United States
ATTACH;FMTTYPE=image/jpeg:https://www.worldbibleschool.net/wp-content/uploads/2019/10/NorthMain.jpg
END:VEVENT
BEGIN:VEVENT
DTSTART;TZID=America/Chicago:20191020T093000
DTEND;TZID=America/Chicago:20191020T103000
DTSTAMP:20260423T124800
CREATED:20190829T193801Z
LAST-MODIFIED:20190829T193801Z
UID:18429-1571563800-1571567400@www.worldbibleschool.net
SUMMARY:WBS Presentation in Munday\, TX
DESCRIPTION:
URL:https://www.worldbibleschool.net/eventdetail/wbs-presentation-in-munday-tx/
LOCATION:Munday\, 320 N. 3rd Ave\, Munday\, TX\, 76371\, United States
ATTACH;FMTTYPE=image/jpeg:https://www.worldbibleschool.net/wp-content/uploads/2019/08/Munday.jpg
END:VEVENT
BEGIN:VEVENT
DTSTART;VALUE=DATE:20191010
DTEND;VALUE=DATE:20191013
DTSTAMP:20260423T124800
CREATED:20181017T205643Z
LAST-MODIFIED:20190815T190240Z
UID:13887-1570665600-1570924799@www.worldbibleschool.net
SUMMARY:Global Mission Conference
DESCRIPTION:Register at www.GMC2019.org.
URL:https://www.worldbibleschool.net/eventdetail/global-mission-conference/
LOCATION:Brentwood Oaks church of Christ and Brentwood Christian School\, 11908 N. Lamar Blvd.\, Austin\, Texas\, 78753
ATTACH;FMTTYPE=image/jpeg:https://www.worldbibleschool.net/wp-content/uploads/2018/10/GMC-1.jpg
END:VEVENT
BEGIN:VEVENT
DTSTART;TZID=America/Chicago:20190929T150000
DTEND;TZID=America/Chicago:20190929T170000
DTSTAMP:20260423T124800
CREATED:20190814T151139Z
LAST-MODIFIED:20190815T143530Z
UID:18290-1569769200-1569776400@www.worldbibleschool.net
SUMMARY:WBS Regional Seminar - Searcy\, AR
DESCRIPTION:Please join us for the WBS Regional Seminar in Searcy!\nWe are excited to offer a World Bible School Regional Seminar in Searcy\, AR! This free event is specifically for WBS coordinator’s\, study helpers\, and those wanting to learn more about sharing the Gospel with WBS. Please spread the word in your congregation and bring a group to join us! Make plans to attend\, then RSVP below: \nRSVP
URL:https://www.worldbibleschool.net/eventdetail/wbs-regional-seminar-searcy-ar/
LOCATION:College church of Christ\, 712 E. Race Ave.\, Searcy\, AR\, 72143\, United States
ATTACH;FMTTYPE=image/jpeg:https://www.worldbibleschool.net/wp-content/uploads/2019/08/collegecoc.jpg
END:VEVENT
BEGIN:VEVENT
DTSTART;TZID=America/Chicago:20190929T093000
DTEND;TZID=America/Chicago:20190929T103000
DTSTAMP:20260423T124800
CREATED:20190819T174848Z
LAST-MODIFIED:20190819T184846Z
UID:18349-1569749400-1569753000@www.worldbibleschool.net
SUMMARY:WBS Presentation in Batesville Arkansas
DESCRIPTION:World Bible School tools will be presented September 29th\, at the Harrison Street Church of Christ\, during Bible class at 9:30am. Please come and be informed about WBS! \n9/29/19  9:30am-10:30am \nHarrison Street C/C\n1536 Harrison Street\nBatesville\, AR 72501
URL:https://www.worldbibleschool.net/eventdetail/wbs-presentation-13-copy-copy-copy-3-copy-copy-copy-copy/
LOCATION:Harrison Street church of Christ\, 1536 Harrison Street\, Batesville\, AR\, 72501\, United States
ATTACH;FMTTYPE=image/png:https://www.worldbibleschool.net/wp-content/uploads/2019/08/Screenshot-1.png
END:VEVENT
BEGIN:VEVENT
DTSTART;TZID=America/Chicago:20190922T170000
DTEND;TZID=America/Chicago:20190922T180000
DTSTAMP:20260423T124800
CREATED:20190725T180552Z
LAST-MODIFIED:20190726T160758Z
UID:18083-1569171600-1569175200@www.worldbibleschool.net
SUMMARY:WBS Presentation in Saginaw Texas
DESCRIPTION:September 22nd\, at the Saginaw church of Christ\,  Jim Crain be will presenting the tools of World Bible School. Please come and be informed about WBS.
URL:https://www.worldbibleschool.net/eventdetail/wbs-presentation-13-copy-2/
LOCATION:Saginaw church of Christ\, 201 Western Ave.\, Saginaw\, TX\, 76179\, United States
ATTACH;FMTTYPE=image/png:https://www.worldbibleschool.net/wp-content/uploads/2019/06/Logo-Bible-for-millionsWBS.png
END:VEVENT
BEGIN:VEVENT
DTSTART;TZID=America/Chicago:20190922T090000
DTEND;TZID=America/Chicago:20190922T100000
DTSTAMP:20260423T124800
CREATED:20190819T173925Z
LAST-MODIFIED:20190819T174812Z
UID:18345-1569142800-1569146400@www.worldbibleschool.net
SUMMARY:WBS Presentation in Joplin Missouri
DESCRIPTION:World Bible School tools will be presented September 22th\, at the 26th and Connecticut Church of Christ\, during Bible class at 9am. Please come and be informed about WBS! \n9/22/19  9:00am-10:00am \n26th and Connecticut Church of Christ\n1819 E. 26th Street\nJoplin\, MO 64804
URL:https://www.worldbibleschool.net/eventdetail/wbs-presentation-13-copy-copy-copy-3-copy-copy-copy/
LOCATION:26th and Connecticut church of Christ\, 1819 E. 26th Street\, Joplin\, MO\, 64804  \, United States
ATTACH;FMTTYPE=image/png:https://www.worldbibleschool.net/wp-content/uploads/2019/06/Logo-Bible-for-millionsWBS.png
END:VEVENT
END:VCALENDAR