BEGIN:VCALENDAR
VERSION:2.0
PRODID:-//World Bible School - ECPv6.15.20//NONSGML v1.0//EN
CALSCALE:GREGORIAN
METHOD:PUBLISH
X-ORIGINAL-URL:https://www.worldbibleschool.net
X-WR-CALDESC:Events for World Bible School
REFRESH-INTERVAL;VALUE=DURATION:PT1H
X-Robots-Tag:noindex
X-PUBLISHED-TTL:PT1H
BEGIN:VTIMEZONE
TZID:America/Chicago
BEGIN:DAYLIGHT
TZOFFSETFROM:-0600
TZOFFSETTO:-0500
TZNAME:CDT
DTSTART:20200308T080000
END:DAYLIGHT
BEGIN:STANDARD
TZOFFSETFROM:-0500
TZOFFSETTO:-0600
TZNAME:CST
DTSTART:20201101T070000
END:STANDARD
BEGIN:DAYLIGHT
TZOFFSETFROM:-0600
TZOFFSETTO:-0500
TZNAME:CDT
DTSTART:20210314T080000
END:DAYLIGHT
BEGIN:STANDARD
TZOFFSETFROM:-0500
TZOFFSETTO:-0600
TZNAME:CST
DTSTART:20211107T070000
END:STANDARD
BEGIN:DAYLIGHT
TZOFFSETFROM:-0600
TZOFFSETTO:-0500
TZNAME:CDT
DTSTART:20220313T080000
END:DAYLIGHT
BEGIN:STANDARD
TZOFFSETFROM:-0500
TZOFFSETTO:-0600
TZNAME:CST
DTSTART:20221106T070000
END:STANDARD
END:VTIMEZONE
BEGIN:VTIMEZONE
TZID:America/New_York
BEGIN:DAYLIGHT
TZOFFSETFROM:-0500
TZOFFSETTO:-0400
TZNAME:EDT
DTSTART:20200308T070000
END:DAYLIGHT
BEGIN:STANDARD
TZOFFSETFROM:-0400
TZOFFSETTO:-0500
TZNAME:EST
DTSTART:20201101T060000
END:STANDARD
BEGIN:DAYLIGHT
TZOFFSETFROM:-0500
TZOFFSETTO:-0400
TZNAME:EDT
DTSTART:20210314T070000
END:DAYLIGHT
BEGIN:STANDARD
TZOFFSETFROM:-0400
TZOFFSETTO:-0500
TZNAME:EST
DTSTART:20211107T060000
END:STANDARD
BEGIN:DAYLIGHT
TZOFFSETFROM:-0500
TZOFFSETTO:-0400
TZNAME:EDT
DTSTART:20220313T070000
END:DAYLIGHT
BEGIN:STANDARD
TZOFFSETFROM:-0400
TZOFFSETTO:-0500
TZNAME:EST
DTSTART:20221106T060000
END:STANDARD
END:VTIMEZONE
BEGIN:VEVENT
DTSTART;TZID=America/Chicago:20210829T100000
DTEND;TZID=America/Chicago:20210829T133000
DTSTAMP:20260423T050829
CREATED:20210824T203944Z
LAST-MODIFIED:20210824T203944Z
UID:29355-1630231200-1630243800@www.worldbibleschool.net
SUMMARY:WBS Presentation & Seminar in Big Spring\, TX
DESCRIPTION:
URL:https://www.worldbibleschool.net/eventdetail/wbs-presentation-seminar-in-big-spring-tx/
LOCATION:14th & Main church of  Christ\, 1401 S. Main St\, Big Spring\, TX\, 79720\, United States
CATEGORIES:WBS Presentation,WBS Seminar
ATTACH;FMTTYPE=image/jpeg:https://www.worldbibleschool.net/wp-content/uploads/2021/04/14thandMain.jpg
END:VEVENT
BEGIN:VEVENT
DTSTART;TZID=America/Chicago:20210829T094500
DTEND;TZID=America/Chicago:20210829T103000
DTSTAMP:20260423T050829
CREATED:20210825T134909Z
LAST-MODIFIED:20210825T134909Z
UID:29360-1630230300-1630233000@www.worldbibleschool.net
SUMMARY:WBS Presentation & Seminar in Brownwood\, TX
DESCRIPTION:Presentation during Class & Seminar in the afternoon (time TBD)
URL:https://www.worldbibleschool.net/eventdetail/wbs-presentation-seminar-in-brownwood-tx/
LOCATION:4th & Stewart church of Christ\, 3201 4th Street\, Brownwood\, 76801\, United States
CATEGORIES:WBS Presentation,WBS Seminar
ATTACH;FMTTYPE=image/jpeg:https://www.worldbibleschool.net/wp-content/uploads/2021/08/4thStewart.jpg
END:VEVENT
BEGIN:VEVENT
DTSTART;TZID=America/Chicago:20210829T093000
DTEND;TZID=America/Chicago:20210829T103000
DTSTAMP:20260423T050829
CREATED:20201228T030627Z
LAST-MODIFIED:20201228T030627Z
UID:27867-1630229400-1630233000@www.worldbibleschool.net
SUMMARY:WBS Presentation in Enid\, OK
DESCRIPTION:
URL:https://www.worldbibleschool.net/eventdetail/wbs-presentation-in-enid-ok/
LOCATION:Garriott Road church of Christ\, 3601 W. Owen K Garriott Road\, Enid\, OK\, 73703\, United States
ATTACH;FMTTYPE=image/jpeg:https://www.worldbibleschool.net/wp-content/uploads/2020/12/Garriot-Road.jpg
END:VEVENT
BEGIN:VEVENT
DTSTART;TZID=America/Chicago:20210828T130000
DTEND;TZID=America/Chicago:20210828T150000
DTSTAMP:20260423T050829
CREATED:20210824T202839Z
LAST-MODIFIED:20210824T202839Z
UID:29352-1630155600-1630162800@www.worldbibleschool.net
SUMMARY:WBS Presentation in Van Horn\, TX
DESCRIPTION:
URL:https://www.worldbibleschool.net/eventdetail/wbs-presentation-in-van-horn-tx/
LOCATION:Highway 54 church of Christ\, (no physical street address available)\, Van Horn\, TX\, 79855\, United States
CATEGORIES:WBS Presentation
ATTACH;FMTTYPE=image/png:https://www.worldbibleschool.net/wp-content/uploads/2019/06/Logo-Bible-for-millionsWBS.png
END:VEVENT
BEGIN:VEVENT
DTSTART;TZID=America/Chicago:20210822T093000
DTEND;TZID=America/Chicago:20210822T103000
DTSTAMP:20260423T050829
CREATED:20210806T191837Z
LAST-MODIFIED:20210806T191837Z
UID:29184-1629624600-1629628200@www.worldbibleschool.net
SUMMARY:WBS Presentation in Owensboro\, KY
DESCRIPTION:
URL:https://www.worldbibleschool.net/eventdetail/wbs-presentation-in-owensboro-ky/
LOCATION:Parrish Avenue church of Christ\, 2302 Parrish Ave\,\, Owensboro\, 42301\, United States
CATEGORIES:WBS Presentation
ATTACH;FMTTYPE=image/jpeg:https://www.worldbibleschool.net/wp-content/uploads/2021/08/Parrish-Ave.jpg
END:VEVENT
BEGIN:VEVENT
DTSTART;TZID=America/Chicago:20210821T100000
DTEND;TZID=America/Chicago:20210821T120000
DTSTAMP:20260423T050829
CREATED:20210818T143620Z
LAST-MODIFIED:20210818T143620Z
UID:29299-1629540000-1629547200@www.worldbibleschool.net
SUMMARY:WBS Seminar in Denison\, TX
DESCRIPTION:
URL:https://www.worldbibleschool.net/eventdetail/wbs-seminar-in-denison-tx/
LOCATION:Park Avenue church of Christ\, 3000 Park Avenue\, Denison\, TX\, 75020\, United States
CATEGORIES:WBS Seminar
ATTACH;FMTTYPE=image/png:https://www.worldbibleschool.net/wp-content/uploads/2019/06/Logo-Bible-for-millionsWBS.png
END:VEVENT
BEGIN:VEVENT
DTSTART;TZID=America/New_York:20210815T180000
DTEND;TZID=America/New_York:20210815T190000
DTSTAMP:20260423T050829
CREATED:20210806T191132Z
LAST-MODIFIED:20210806T191132Z
UID:29180-1629050400-1629054000@www.worldbibleschool.net
SUMMARY:WBS Presentation in Mannington\, WV
DESCRIPTION:
URL:https://www.worldbibleschool.net/eventdetail/wbs-presentation-in-mannington-wv/
LOCATION:Mannington church of Christ\, 706 E. Main St.\, Mannington\, WV\, 26582\, United States
CATEGORIES:WBS Presentation
ATTACH;FMTTYPE=image/jpeg:https://www.worldbibleschool.net/wp-content/uploads/2021/08/Mannington-church-of-Christ.jpg
END:VEVENT
BEGIN:VEVENT
DTSTART;TZID=America/New_York:20210815T100000
DTEND;TZID=America/New_York:20210815T110000
DTSTAMP:20260423T050829
CREATED:20210806T190322Z
LAST-MODIFIED:20210806T190334Z
UID:29176-1629021600-1629025200@www.worldbibleschool.net
SUMMARY:WBS Presentation in Vincent\, OH
DESCRIPTION:
URL:https://www.worldbibleschool.net/eventdetail/wbs-presentation-in-vincent-oh/
LOCATION:Barlow Vincent church of Christ\, 6429 State Route 339\, Vincent\, OH\, 45784\, United States
CATEGORIES:WBS Presentation
ATTACH;FMTTYPE=image/jpeg:https://www.worldbibleschool.net/wp-content/uploads/2021/08/barlowvincent.jpg
END:VEVENT
BEGIN:VEVENT
DTSTART;TZID=America/Chicago:20210801T103000
DTEND;TZID=America/Chicago:20210801T113000
DTSTAMP:20260423T050829
CREATED:20210623T181050Z
LAST-MODIFIED:20210623T181050Z
UID:28970-1627813800-1627817400@www.worldbibleschool.net
SUMMARY:WBS Presentation in Rochester\, MN
DESCRIPTION:
URL:https://www.worldbibleschool.net/eventdetail/wbs-presentation-in-rochester-mn/
LOCATION:Rochester church of Christ\, 632 2nd St SW\, Rochester\, MN\, 55902\, United States
CATEGORIES:WBS Presentation
ATTACH;FMTTYPE=image/jpeg:https://www.worldbibleschool.net/wp-content/uploads/2021/06/Rochester.jpg
END:VEVENT
BEGIN:VEVENT
DTSTART;TZID=America/Chicago:20210801T094500
DTEND;TZID=America/Chicago:20210801T110000
DTSTAMP:20260423T050829
CREATED:20210521T142625Z
LAST-MODIFIED:20210521T142625Z
UID:28675-1627811100-1627815600@www.worldbibleschool.net
SUMMARY:WBS Presentation in Arkadelphia\, AR
DESCRIPTION:
URL:https://www.worldbibleschool.net/eventdetail/wbs-presentation-in-arkadelphia-ar/
LOCATION:11th & Pine Street church of Christ\, 1100 Pine Street\, Arkadelphia\, AR\, 71923\, United States
CATEGORIES:WBS Presentation
ATTACH;FMTTYPE=image/jpeg:https://www.worldbibleschool.net/wp-content/uploads/2021/05/11thandPine.jpg
END:VEVENT
BEGIN:VEVENT
DTSTART;TZID=America/Chicago:20210728T190000
DTEND;TZID=America/Chicago:20210728T200000
DTSTAMP:20260423T050829
CREATED:20210609T134530Z
LAST-MODIFIED:20210609T134530Z
UID:28881-1627498800-1627502400@www.worldbibleschool.net
SUMMARY:WBS Presentation in Austin\, TX
DESCRIPTION:
URL:https://www.worldbibleschool.net/eventdetail/wbs-presentation-in-austin-tx/
LOCATION:Cameron Road church of Christ\, 6014 Cameron Road\, Austin\, 78723\, United States
CATEGORIES:WBS Presentation
ATTACH;FMTTYPE=image/jpeg:https://www.worldbibleschool.net/wp-content/uploads/2021/06/Cameron_Road_Church_of_Christ_Exterior.jpg
END:VEVENT
BEGIN:VEVENT
DTSTART;TZID=America/Chicago:20210725T093000
DTEND;TZID=America/Chicago:20210725T113000
DTSTAMP:20260423T050829
CREATED:20210629T194454Z
LAST-MODIFIED:20210629T194454Z
UID:29014-1627205400-1627212600@www.worldbibleschool.net
SUMMARY:WBS Presentation in Snyder\, TX
DESCRIPTION:Class at 9:30\nWorship at 10:30
URL:https://www.worldbibleschool.net/eventdetail/wbs-presentation-in-snyder-tx/
LOCATION:37th Street church of Christ\, 2500 37th St\, Snyder\, TX\, 79549\, United States
CATEGORIES:WBS Class,WBS Presentation
ATTACH;FMTTYPE=image/jpeg:https://www.worldbibleschool.net/wp-content/uploads/2021/06/37thSt.jpg
END:VEVENT
BEGIN:VEVENT
DTSTART;VALUE=DATE:20210722
DTEND;VALUE=DATE:20210726
DTSTAMP:20260423T050829
CREATED:20210623T180224Z
LAST-MODIFIED:20210623T180224Z
UID:28966-1626912000-1627257599@www.worldbibleschool.net
SUMMARY:WBS Booth in Orlando\, FL
DESCRIPTION:Equip Conference 2021
URL:https://www.worldbibleschool.net/eventdetail/wbs-booth-in-orlando-fl/
LOCATION:Orange Avenue church of Christ\, 1511 East Orange Avenue\, Eustis\, FL\, 32726\, United States
CATEGORIES:WBS Booth
ATTACH;FMTTYPE=image/jpeg:https://www.worldbibleschool.net/wp-content/uploads/2021/06/OrangeAve.jpg
END:VEVENT
BEGIN:VEVENT
DTSTART;TZID=America/Chicago:20210718T130000
DTEND;TZID=America/Chicago:20210718T140000
DTSTAMP:20260423T050829
CREATED:20210623T175109Z
LAST-MODIFIED:20210623T175109Z
UID:28960-1626613200-1626616800@www.worldbibleschool.net
SUMMARY:WBS Training Class in Clinton\, OK
DESCRIPTION:
URL:https://www.worldbibleschool.net/eventdetail/wbs-training-class-in-clinton-ok/
LOCATION:Custer Avenue church of Christ\, 2601 Custer Ave\, Clinton\, OK\, 73601\, United States
CATEGORIES:WBS Class
ATTACH;FMTTYPE=image/jpeg:https://www.worldbibleschool.net/wp-content/uploads/2021/06/CusterAve.jpg
END:VEVENT
BEGIN:VEVENT
DTSTART;TZID=America/Chicago:20210718T093000
DTEND;TZID=America/Chicago:20210718T103000
DTSTAMP:20260423T050829
CREATED:20201111T161648Z
LAST-MODIFIED:20201111T161648Z
UID:27367-1626600600-1626604200@www.worldbibleschool.net
SUMMARY:WBS Presentation in Aurora\, CO
DESCRIPTION:
URL:https://www.worldbibleschool.net/eventdetail/wbs-presentation-in-aurora-co/
LOCATION:Aurora church of Christ\, 14601 E. Yale Avenue\, Aurora\, CO\, 80014\, United States
ATTACH;FMTTYPE=image/png:https://www.worldbibleschool.net/wp-content/uploads/2019/06/Logo-Bible-for-millionsWBS.png
END:VEVENT
BEGIN:VEVENT
DTSTART;TZID=America/Chicago:20210711T104500
DTEND;TZID=America/Chicago:20210711T120000
DTSTAMP:20260423T050829
CREATED:20210623T173822Z
LAST-MODIFIED:20210623T173822Z
UID:28956-1626000300-1626004800@www.worldbibleschool.net
SUMMARY:Presentation in Starkville\, MS
DESCRIPTION:
URL:https://www.worldbibleschool.net/eventdetail/presentation-in-starkville-ms/
LOCATION:Starkville church of Christ\, 613 East Lee Blvd.\, Starkville\, MS\, 39759\, United States
CATEGORIES:WBS Presentation
ATTACH;FMTTYPE=image/jpeg:https://www.worldbibleschool.net/wp-content/uploads/2021/06/Starkville.jpg
END:VEVENT
BEGIN:VEVENT
DTSTART;TZID=America/Chicago:20210711T103000
DTEND;TZID=America/Chicago:20210711T233000
DTSTAMP:20260423T050829
CREATED:20210629T193620Z
LAST-MODIFIED:20210629T193620Z
UID:29012-1625999400-1626046200@www.worldbibleschool.net
SUMMARY:WBS Presentation in Graham\, TX
DESCRIPTION:
URL:https://www.worldbibleschool.net/eventdetail/wbs-presentation-in-graham-tx/
LOCATION:Eastside church of Christ\, 705 Indiana St\, Graham\, TX\, 76450\, United States
CATEGORIES:WBS Presentation
ATTACH;FMTTYPE=image/png:https://www.worldbibleschool.net/wp-content/uploads/2021/03/Screen-Shot-2021-03-23-at-11.08.37-AM.png
END:VEVENT
BEGIN:VEVENT
DTSTART;VALUE=DATE:20210708
DTEND;VALUE=DATE:20210711
DTSTAMP:20260423T050829
CREATED:20210414T192336Z
LAST-MODIFIED:20210414T192336Z
UID:28506-1625702400-1625961599@www.worldbibleschool.net
SUMMARY:WBS Class & Display in Tacoma\, WA
DESCRIPTION:Faith Builder’s Workshop
URL:https://www.worldbibleschool.net/eventdetail/wbs-class-display-in-tacoma-wa/
LOCATION:Lakeview church of Christ\, 1709 112th Street S.\, Tacoma\, WA\, 98444\, United States
CATEGORIES:WBS Class,WBS Display
ATTACH;FMTTYPE=image/png:https://www.worldbibleschool.net/wp-content/uploads/2019/06/Logo-Bible-for-millionsWBS.png
END:VEVENT
BEGIN:VEVENT
DTSTART;TZID=America/Chicago:20210630T190000
DTEND;TZID=America/Chicago:20210630T200000
DTSTAMP:20260423T050829
CREATED:20210623T172703Z
LAST-MODIFIED:20210623T172703Z
UID:28952-1625079600-1625083200@www.worldbibleschool.net
SUMMARY:WBS Presentation in Aztec\, MN
DESCRIPTION:
URL:https://www.worldbibleschool.net/eventdetail/wbs-presentation-in-aztec-mn/
LOCATION:Aztec church of Christ\, 201 Ruins Road\, Aztec\, NM\, 39759\, United States
CATEGORIES:WBS Presentation
ATTACH;FMTTYPE=image/jpeg:https://www.worldbibleschool.net/wp-content/uploads/2021/06/Aztec.jpg
END:VEVENT
BEGIN:VEVENT
DTSTART;VALUE=DATE:20210626
DTEND;VALUE=DATE:20210630
DTSTAMP:20260423T050829
CREATED:20210623T170530Z
LAST-MODIFIED:20210623T170530Z
UID:28949-1624665600-1625011199@www.worldbibleschool.net
SUMMARY:WBS Booth in Red River\, NM
DESCRIPTION:
URL:https://www.worldbibleschool.net/eventdetail/wbs-booth-in-red-river-nm/
LOCATION:Red River Family Encampment\, Red River\, NM\, 87558\, United States
CATEGORIES:WBS Booth
ATTACH;FMTTYPE=image/png:https://www.worldbibleschool.net/wp-content/uploads/2019/06/Logo-Bible-for-millionsWBS.png
END:VEVENT
BEGIN:VEVENT
DTSTART;TZID=America/Chicago:20210620T103000
DTEND;TZID=America/Chicago:20210620T113000
DTSTAMP:20260423T050829
CREATED:20210616T145359Z
LAST-MODIFIED:20210616T145359Z
UID:28917-1624185000-1624188600@www.worldbibleschool.net
SUMMARY:WBS Sermon in Piedmont\, OK
DESCRIPTION:
URL:https://www.worldbibleschool.net/eventdetail/wbs-sermon-in-piedmont-ok/
LOCATION:Soldier Creek Church of Christ\, 417 Monroe Ave\, Piedmont\, OK\, 73078\, United States
CATEGORIES:WBS Presentation
ATTACH;FMTTYPE=image/png:https://www.worldbibleschool.net/wp-content/uploads/2019/06/Logo-Bible-for-millionsWBS.png
ORGANIZER;CN="Pat Brown":MAILTO:pat@worldbibleschool.net
END:VEVENT
BEGIN:VEVENT
DTSTART;TZID=America/Chicago:20210606T090000
DTEND;TZID=America/Chicago:20210606T110000
DTSTAMP:20260423T050829
CREATED:20210414T191740Z
LAST-MODIFIED:20210414T191740Z
UID:28502-1622970000-1622977200@www.worldbibleschool.net
SUMMARY:WBS Class & Presentation in Lake Dallas\, TX
DESCRIPTION:
URL:https://www.worldbibleschool.net/eventdetail/wbs-class-presentation-in-lake-dallas-tx/
LOCATION:Lake Dallas church of Christ\, 502 Carlisle Drive\, Lake Dallas\, TX\, 75065\, United States
CATEGORIES:WBS Class,WBS Presentation
ATTACH;FMTTYPE=image/jpeg:https://www.worldbibleschool.net/wp-content/uploads/2021/04/LakeDallas.jpg
END:VEVENT
BEGIN:VEVENT
DTSTART;TZID=America/Chicago:20210606T090000
DTEND;TZID=America/Chicago:20210606T100000
DTSTAMP:20260423T050829
CREATED:20210520T172421Z
LAST-MODIFIED:20210521T143825Z
UID:28670-1622970000-1622973600@www.worldbibleschool.net
SUMMARY:WBS Presentation in Huntersville\, NC
DESCRIPTION:
URL:https://www.worldbibleschool.net/eventdetail/wbs-presentation-in-huntersville-nc/
LOCATION:Lake Norman church of Christ\, 17634 Caldwell Station Rd\, Huntersville\, NC\, 28078\, United States
CATEGORIES:WBS Presentation
ATTACH;FMTTYPE=image/png:https://www.worldbibleschool.net/wp-content/uploads/2019/06/Logo-Bible-for-millionsWBS.png
END:VEVENT
BEGIN:VEVENT
DTSTART;VALUE=DATE:20210602
DTEND;VALUE=DATE:20210606
DTSTAMP:20260423T050829
CREATED:20210408T175943Z
LAST-MODIFIED:20210408T175943Z
UID:28462-1622592000-1622937599@www.worldbibleschool.net
SUMMARY:WBS Booth at the Connect Conference in Nashville\, TN
DESCRIPTION:
URL:https://www.worldbibleschool.net/eventdetail/wbs-booth-at-the-connect-conference-in-nashville-tn/
LOCATION:Crieve Hall church of Christ\, 4806 Trousdale Drive\, Nashville\, TN\, 37220\, United States
CATEGORIES:WBS Booth
ATTACH;FMTTYPE=image/jpeg:https://www.worldbibleschool.net/wp-content/uploads/2021/04/Crieve-Hall.jpg
END:VEVENT
BEGIN:VEVENT
DTSTART;TZID=America/Chicago:20210530T100000
DTEND;TZID=America/Chicago:20210530T110000
DTSTAMP:20260423T050829
CREATED:20210414T185459Z
LAST-MODIFIED:20210414T185459Z
UID:28495-1622368800-1622372400@www.worldbibleschool.net
SUMMARY:WBS Presentation in Texarkana\, TX
DESCRIPTION:
URL:https://www.worldbibleschool.net/eventdetail/wbs-presentation-in-texarkana-tx/
LOCATION:Westside church of Christ\, 831 Heights Road\, Alvin\, TX\, 77511\, United States
CATEGORIES:WBS Presentation
ATTACH;FMTTYPE=image/jpeg:https://www.worldbibleschool.net/wp-content/uploads/2021/04/WestsideTexarkana.jpg
END:VEVENT
BEGIN:VEVENT
DTSTART;TZID=America/Chicago:20210516T093000
DTEND;TZID=America/Chicago:20210516T103000
DTSTAMP:20260423T050829
CREATED:20210331T193920Z
LAST-MODIFIED:20210331T193920Z
UID:28424-1621157400-1621161000@www.worldbibleschool.net
SUMMARY:WBS Presentation in Sallisaw\, OK
DESCRIPTION:
URL:https://www.worldbibleschool.net/eventdetail/wbs-presentation-in-sallisaw-ok/
LOCATION:Sallisaw church of Christ\, 1104 East Choctaw Ave\, Sallisaw\, OK\, 74955\, United States
CATEGORIES:WBS Presentation
ATTACH;FMTTYPE=image/jpeg:https://www.worldbibleschool.net/wp-content/uploads/2021/03/Sallisaw.jpg
END:VEVENT
BEGIN:VEVENT
DTSTART;TZID=America/Chicago:20210509T093000
DTEND;TZID=America/Chicago:20210509T230000
DTSTAMP:20260423T050829
CREATED:20210408T180947Z
LAST-MODIFIED:20210408T180947Z
UID:28468-1620552600-1620601200@www.worldbibleschool.net
SUMMARY:WBS Presentation in Portland\, TX
DESCRIPTION:
URL:https://www.worldbibleschool.net/eventdetail/wbs-presentation-in-portland-tx/
LOCATION:North Bay church of Christ\, 1501 Denver St.\, Portland\, TX\, 78374\, United States
CATEGORIES:WBS Presentation
ATTACH;FMTTYPE=image/jpeg:https://www.worldbibleschool.net/wp-content/uploads/2021/04/North-Bay.jpg
END:VEVENT
BEGIN:VEVENT
DTSTART;TZID=America/Chicago:20210509T093000
DTEND;TZID=America/Chicago:20210509T103000
DTSTAMP:20260423T050829
CREATED:20210331T190910Z
LAST-MODIFIED:20210331T190910Z
UID:28415-1620552600-1620556200@www.worldbibleschool.net
SUMMARY:WBS Presentation in Stanford\, KY
DESCRIPTION:
URL:https://www.worldbibleschool.net/eventdetail/wbs-presentation-in-stanford-ky/
LOCATION:Stanford church of Christ\, 702 East Main St\, Stanford\, KY\, 40484\, United States
CATEGORIES:WBS Presentation
ATTACH;FMTTYPE=image/jpeg:https://www.worldbibleschool.net/wp-content/uploads/2021/03/Stanford-Church-of-Christ-building.jpg
END:VEVENT
BEGIN:VEVENT
DTSTART;TZID=America/Chicago:20210505T190000
DTEND;TZID=America/Chicago:20210505T200000
DTSTAMP:20260423T050829
CREATED:20210414T184819Z
LAST-MODIFIED:20210414T184819Z
UID:28491-1620241200-1620244800@www.worldbibleschool.net
SUMMARY:WBS Presentation in Xenia\, OH
DESCRIPTION:
URL:https://www.worldbibleschool.net/eventdetail/wbs-presentation-in-xenia-oh/
LOCATION:Xenia church of Christ\, 444 Country Club Dr.\, Xenia\, OH\, 45385\, United States
CATEGORIES:WBS Presentation
ATTACH;FMTTYPE=image/jpeg:https://www.worldbibleschool.net/wp-content/uploads/2021/04/Xenia.jpg
END:VEVENT
BEGIN:VEVENT
DTSTART;TZID=America/Chicago:20210502T093000
DTEND;TZID=America/Chicago:20210502T143000
DTSTAMP:20260423T050829
CREATED:20210331T190039Z
LAST-MODIFIED:20210331T191251Z
UID:28411-1619947800-1619965800@www.worldbibleschool.net
SUMMARY:WBS Presentation & Seminar in Evansville\, IN
DESCRIPTION:9:30 a.m. Bible Class Presentation\n1:30 p.m. Seminar
URL:https://www.worldbibleschool.net/eventdetail/wbs-presentation-seminar-in-evansville-in/
LOCATION:Washington Avenue church of Christ\, 4001 Washington Avenue\, Evansville\, IN\, 47714\, United States
CATEGORIES:WBS Presentation,WBS Seminar
ATTACH;FMTTYPE=image/jpeg:https://www.worldbibleschool.net/wp-content/uploads/2021/03/WAcoc.jpg
END:VEVENT
END:VCALENDAR