BEGIN:VCALENDAR
VERSION:2.0
PRODID:-//World Bible School - ECPv6.15.20//NONSGML v1.0//EN
CALSCALE:GREGORIAN
METHOD:PUBLISH
X-ORIGINAL-URL:https://www.worldbibleschool.net
X-WR-CALDESC:Events for World Bible School
REFRESH-INTERVAL;VALUE=DURATION:PT1H
X-Robots-Tag:noindex
X-PUBLISHED-TTL:PT1H
BEGIN:VTIMEZONE
TZID:America/Chicago
BEGIN:DAYLIGHT
TZOFFSETFROM:-0600
TZOFFSETTO:-0500
TZNAME:CDT
DTSTART:20210314T080000
END:DAYLIGHT
BEGIN:STANDARD
TZOFFSETFROM:-0500
TZOFFSETTO:-0600
TZNAME:CST
DTSTART:20211107T070000
END:STANDARD
BEGIN:DAYLIGHT
TZOFFSETFROM:-0600
TZOFFSETTO:-0500
TZNAME:CDT
DTSTART:20220313T080000
END:DAYLIGHT
BEGIN:STANDARD
TZOFFSETFROM:-0500
TZOFFSETTO:-0600
TZNAME:CST
DTSTART:20221106T070000
END:STANDARD
BEGIN:DAYLIGHT
TZOFFSETFROM:-0600
TZOFFSETTO:-0500
TZNAME:CDT
DTSTART:20230312T080000
END:DAYLIGHT
BEGIN:STANDARD
TZOFFSETFROM:-0500
TZOFFSETTO:-0600
TZNAME:CST
DTSTART:20231105T070000
END:STANDARD
BEGIN:DAYLIGHT
TZOFFSETFROM:-0600
TZOFFSETTO:-0500
TZNAME:CDT
DTSTART:20240310T080000
END:DAYLIGHT
BEGIN:STANDARD
TZOFFSETFROM:-0500
TZOFFSETTO:-0600
TZNAME:CST
DTSTART:20241103T070000
END:STANDARD
BEGIN:DAYLIGHT
TZOFFSETFROM:-0600
TZOFFSETTO:-0500
TZNAME:CDT
DTSTART:20250309T080000
END:DAYLIGHT
BEGIN:STANDARD
TZOFFSETFROM:-0500
TZOFFSETTO:-0600
TZNAME:CST
DTSTART:20251102T070000
END:STANDARD
BEGIN:DAYLIGHT
TZOFFSETFROM:-0600
TZOFFSETTO:-0500
TZNAME:CDT
DTSTART:20260308T080000
END:DAYLIGHT
BEGIN:STANDARD
TZOFFSETFROM:-0500
TZOFFSETTO:-0600
TZNAME:CST
DTSTART:20261101T070000
END:STANDARD
END:VTIMEZONE
BEGIN:VEVENT
DTSTART;TZID=America/Chicago:20251106T183000
DTEND;TZID=America/Chicago:20251106T203000
DTSTAMP:20260420T145609
CREATED:20241002T184049Z
LAST-MODIFIED:20250716T184403Z
UID:40020-1762453800-1762461000@www.worldbibleschool.net
SUMMARY:2025 Austin Benefit Dinner
DESCRIPTION:LOCATION: \nWestside church of Christ\n3300 RM 1431\, Round Rock\, TX 78681 \nDATE: \nNovember 6\, 2024 \nTIME: \n6:30pm – 8:30pm \nDETAILS: \nLearn more by clicking here!
URL:https://www.worldbibleschool.net/eventdetail/austin-benefit-dinner-2025/
LOCATION:Westside church of Christ\, 3300 Ranch Road 1431\, Round Rock\, TX\, 78681\, United States
ATTACH;FMTTYPE=image/jpeg:https://www.worldbibleschool.net/wp-content/uploads/2021/08/westside-church-of-christ.jpg
END:VEVENT
BEGIN:VEVENT
DTSTART;TZID=America/Chicago:20251009T183000
DTEND;TZID=America/Chicago:20251009T203000
DTSTAMP:20260420T145609
CREATED:20250609T183229Z
LAST-MODIFIED:20250716T184250Z
UID:40015-1760034600-1760041800@www.worldbibleschool.net
SUMMARY:2025 Nashville Benefit Dinner
DESCRIPTION:LOCATION: \nConcord Rd church of Christ\n8221 Concord Rd\, Brentwood\, TN 37027 \nDATE: \nOctober 9\, 2025 \nTIME: \n6:30pm – 8:30pm \nDETAILS: \nLearn more by clicking here!
URL:https://www.worldbibleschool.net/eventdetail/nashville-benefit-dinner-2025/
LOCATION:Concord Road church of Christ\, 8221 Concord Rd\, Brentwood\, TX\, 37027\, United States
ATTACH;FMTTYPE=image/jpeg:https://www.worldbibleschool.net/wp-content/uploads/2022/07/Concord-Road.jpg
END:VEVENT
BEGIN:VEVENT
DTSTART;TZID=America/Chicago:20250908T183000
DTEND;TZID=America/Chicago:20250908T203000
DTSTAMP:20260420T145609
CREATED:20240619T181344Z
LAST-MODIFIED:20250625T192733Z
UID:39113-1757356200-1757363400@www.worldbibleschool.net
SUMMARY:2025 Searcy Benefit Dinner
DESCRIPTION:LOCATION: \nHarding University American Heritage Building\nFounders Room \n915 E Market Ave Searcy\, AR 72143 \nDATE: \nSeptember 8\, 2025 \nTIME: \n6:30pm – 8:30pm \nDETAILS: \nLearn more by clicking here!
URL:https://www.worldbibleschool.net/eventdetail/2025-searcy-benefit-dinner/
LOCATION:Harding University American Heritage Building\, Founders Room\, 915 E Market Ave\, Searcy\, AR\, 72143\, United States
CATEGORIES:WBS Dinner
ATTACH;FMTTYPE=image/jpeg:https://www.worldbibleschool.net/wp-content/uploads/2022/07/Harding-FoundersRoom.jpg
END:VEVENT
BEGIN:VEVENT
DTSTART;TZID=America/Chicago:20240929T080000
DTEND;TZID=America/Chicago:20241002T170000
DTSTAMP:20260420T145609
CREATED:20231211T201038Z
LAST-MODIFIED:20240109T175153Z
UID:36749-1727596800-1727888400@www.worldbibleschool.net
SUMMARY:Harding University Lectureship
DESCRIPTION:Come visit the World Bible School booth during this event to check out the wonderful resources we offer! \nThe Harding University Lectureships include various presentations from current staff\, alumni\, and other speakers who present on various biblical topics.
URL:https://www.worldbibleschool.net/eventdetail/harding-university-lectureship/
LOCATION:Harding University\, 915 E. Market Avenue\, Searcy\, AR\, 72149\, United States
CATEGORIES:WBS Booth
ATTACH;FMTTYPE=image/jpeg:https://www.worldbibleschool.net/wp-content/uploads/2023/12/lectureships.jpeg
END:VEVENT
BEGIN:VEVENT
DTSTART;VALUE=DATE:20240922
DTEND;VALUE=DATE:20240926
DTSTAMP:20260420T145609
CREATED:20231221T200513Z
LAST-MODIFIED:20240109T175147Z
UID:36902-1726963200-1727308799@www.worldbibleschool.net
SUMMARY:Abundant Living Fall Retreat
DESCRIPTION:Come visit the World Bible School booth during this event to check out the wonderful resources we offer!
URL:https://www.worldbibleschool.net/eventdetail/abundant-living-fall-retreat/
LOCATION:Chateau on the Lake Hotel and Conference Center\, 415 N State Hwy 265\, Branson\, MO\, 65616\, United States
CATEGORIES:WBS Booth
END:VEVENT
BEGIN:VEVENT
DTSTART;VALUE=DATE:20240816
DTEND;VALUE=DATE:20240823
DTSTAMP:20260420T145609
CREATED:20231221T195021Z
LAST-MODIFIED:20240109T175117Z
UID:36892-1723766400-1724371199@www.worldbibleschool.net
SUMMARY:Polishing the Pulpit-Tennessee
DESCRIPTION:Come visit the World Bible School booth during this event to check out the wonderful resources we offer!
URL:https://www.worldbibleschool.net/eventdetail/polishing-the-pulpit-tennessee/
LOCATION:Polishing the Pulpit\, Sevierville Convention Center\, 202 Gists Creek Road\, Sevierville\, TN\, 37876\, United States
CATEGORIES:WBS Booth
ATTACH;FMTTYPE=image/png:https://www.worldbibleschool.net/wp-content/uploads/2023/12/ptp-1.png
END:VEVENT
BEGIN:VEVENT
DTSTART;VALUE=DATE:20240724
DTEND;VALUE=DATE:20240727
DTSTAMP:20260420T145609
CREATED:20240109T175846Z
LAST-MODIFIED:20240109T175846Z
UID:37135-1721779200-1722038399@www.worldbibleschool.net
SUMMARY:Connect Conference
DESCRIPTION:Come join us at the Connect Conference\, where we will have a booth set up and a few of our staff will be presenting lessons on evangelism.
URL:https://www.worldbibleschool.net/eventdetail/connect-conference/
LOCATION:Crieve Hall church of Christ\, 4806 Trousdale Drive\, Nashville\, TN\, 37220\, United States
ATTACH;FMTTYPE=image/png:https://www.worldbibleschool.net/wp-content/uploads/2024/01/Screenshot-2024-01-09-at-11.54.22-AM.png
END:VEVENT
BEGIN:VEVENT
DTSTART;VALUE=DATE:20240223
DTEND;VALUE=DATE:20240226
DTSTAMP:20260420T145609
CREATED:20231211T205908Z
LAST-MODIFIED:20240109T175031Z
UID:36781-1708646400-1708905599@www.worldbibleschool.net
SUMMARY:Challenge Youth Conference - Pigeon Forge
DESCRIPTION:Come visit the Mathetis booth during this event to check out the wonderful resources we offer! \nChallenge Youth Conference is a program for teens that focuses on the positivity of living for Jesus Christ.
URL:https://www.worldbibleschool.net/eventdetail/challenge-youth-conference-pigeon-forge/
LOCATION:LeConte Center\, 2986 Teaster Ln\, Pigeon Forge\, TN\, 37863\, United States
CATEGORIES:WBS Booth
ATTACH;FMTTYPE=image/webp:https://www.worldbibleschool.net/wp-content/uploads/2023/12/7040f2_c08f797a5cb346c6893771e49be0c944mv2-scaled.webp
END:VEVENT
BEGIN:VEVENT
DTSTART;VALUE=DATE:20240223
DTEND;VALUE=DATE:20240226
DTSTAMP:20260420T145609
CREATED:20231211T205819Z
LAST-MODIFIED:20240109T175258Z
UID:36776-1708646400-1708905599@www.worldbibleschool.net
SUMMARY:Telling the Story: Church Growth and Evangelism Conference
DESCRIPTION:Come visit the World Bible School booth during this event to check out the wonderful resources we offer! One of our own\, Tim Yaeger\, will also be presenting at this event. \n  \nFeatures include…\n\nRelevant\, inspiring lessons and messages from speakers from across the United States\nAn edifying weekend of worship\, fellowship\, discussions\, and dreaming about the future of the church\nKeynote presenters reminding us why telling the gospel story is such a priceless task\nThirty + outstanding teachers helping us return to the nuts and bolts of church growth\, equipping us with essential tools for ministry
URL:https://www.worldbibleschool.net/eventdetail/telling-the-story-church-growth-and-evangelism-conference/
LOCATION:Preston Crest church of Christ\, 6022 Preston Crest Ln.\, Dallas\, TX\, 75230\, United States
CATEGORIES:WBS Booth
ATTACH;FMTTYPE=image/jpeg:https://www.worldbibleschool.net/wp-content/uploads/2023/12/telling-the-story.jpeg
END:VEVENT
BEGIN:VEVENT
DTSTART;VALUE=DATE:20240204
DTEND;VALUE=DATE:20240209
DTSTAMP:20260420T145609
CREATED:20240109T174806Z
LAST-MODIFIED:20240109T174806Z
UID:36770-1707004800-1707436799@www.worldbibleschool.net
SUMMARY:Freed-Hardeman Lectureship
DESCRIPTION:Come visit the World Bible School booth during this event to check out the wonderful resources we offer! \nWe are excited to announce the theme for the 88th annual Freed-Hardeman University Lectures\, “Triumph of the Lamb: The Battle with Evil in Revelation.”
URL:https://www.worldbibleschool.net/eventdetail/freed-hardeman-lectureship/
LOCATION:Freed-Hardeman University\, 158 East Main Street\, Henderson\, TN\, 38340\, United States
CATEGORIES:WBS Booth
ATTACH;FMTTYPE=image/jpeg:https://www.worldbibleschool.net/wp-content/uploads/2023/12/LionandtheLamb_FhuLecturship-e1699552172220-980x551-1.jpg
END:VEVENT
BEGIN:VEVENT
DTSTART;VALUE=DATE:20240124
DTEND;VALUE=DATE:20240127
DTSTAMP:20260420T145609
CREATED:20231211T203612Z
LAST-MODIFIED:20240109T174933Z
UID:36763-1706054400-1706313599@www.worldbibleschool.net
SUMMARY:SIBI Vision Workshop
DESCRIPTION:Come visit the World Bible School booth during this event to check out the wonderful resources we offer!
URL:https://www.worldbibleschool.net/eventdetail/sibi-vision-workshop/
LOCATION:Sunset church of Christ\, 3723 34th St\, Lubbock\, TX\, 79410\, United States
CATEGORIES:WBS Booth
ATTACH;FMTTYPE=image/jpeg:https://www.worldbibleschool.net/wp-content/uploads/2023/12/SIBI-vision-workshop.jpeg
END:VEVENT
BEGIN:VEVENT
DTSTART;VALUE=DATE:20240112
DTEND;VALUE=DATE:20240115
DTSTAMP:20260420T145609
CREATED:20240109T174659Z
LAST-MODIFIED:20240109T174659Z
UID:36753-1705017600-1705276799@www.worldbibleschool.net
SUMMARY:Evangelism University
DESCRIPTION:Come visit the Mathetis booth during this event to check out the wonderful resources we offer! \nEvangelism University is not a youth rally\, but is designed specifically for High School leaders in your youth group who are spiritually ready to begin sharing the Gospel with those around them.
URL:https://www.worldbibleschool.net/eventdetail/evangelism-university/
LOCATION:Savannah church of Christ\, Hardin County High School\, 1170 Pickwick Street\, Savannah\, TN\, 38372\, United States
CATEGORIES:WBS Booth
ATTACH;FMTTYPE=image/jpeg:https://www.worldbibleschool.net/wp-content/uploads/2023/12/evangelism-univ.jpeg
END:VEVENT
BEGIN:VEVENT
DTSTART;TZID=America/Chicago:20231109T183000
DTEND;TZID=America/Chicago:20231109T203000
DTSTAMP:20260420T145609
CREATED:20230706T192812Z
LAST-MODIFIED:20230710T175931Z
UID:35195-1699554600-1699561800@www.worldbibleschool.net
SUMMARY:Austin WBS Benefit Dinner 2023
DESCRIPTION:
URL:https://www.worldbibleschool.net/eventdetail/austin2023/
LOCATION:Westside church of Christ\, 3300 Ranch Road 1431\, Round Rock\, TX\, 78681\, United States
CATEGORIES:WBS Dinner
ATTACH;FMTTYPE=image/jpeg:https://www.worldbibleschool.net/wp-content/uploads/2023/07/Austin-Dinner-scaled.jpeg
END:VEVENT
BEGIN:VEVENT
DTSTART;TZID=America/Chicago:20231104T083000
DTEND;TZID=America/Chicago:20231104T103000
DTSTAMP:20260420T145609
CREATED:20230906T203511Z
LAST-MODIFIED:20230906T203743Z
UID:35580-1699086600-1699093800@www.worldbibleschool.net
SUMMARY:Hillcrest church of Christ Area Wide WBS Breakfast
DESCRIPTION:Come join us at the Hillcrest church of Christ in Abilene\, Texas to learn about the work of World Bible School and how you and your congregation can get involved. \nFor more information contact the church office at (325) 691-4200\, or Phil Palmer at (325) 660-4311.
URL:https://www.worldbibleschool.net/eventdetail/hillcrest-church-of-christ-area-wide-wbs-breakfast/
LOCATION:Hillcrest church of Christ\, 650 E. Ambler Avenue\, Abilene\, TX\, 79601\, United States
ATTACH;FMTTYPE=image/jpeg:https://www.worldbibleschool.net/wp-content/uploads/2023/09/hillcrestlogo.jpg
END:VEVENT
BEGIN:VEVENT
DTSTART;TZID=America/Chicago:20231005T183000
DTEND;TZID=America/Chicago:20231005T203000
DTSTAMP:20260420T145609
CREATED:20230706T185644Z
LAST-MODIFIED:20230710T180137Z
UID:35186-1696530600-1696537800@www.worldbibleschool.net
SUMMARY:Nashville WBS Benefit Dinner 2023
DESCRIPTION:
URL:https://www.worldbibleschool.net/eventdetail/nashville-2023/
LOCATION:Concord Rd church of Christ\, 8221 Concord Rd\, Brentwood\, TN\, 37027\, United States
CATEGORIES:WBS Dinner
ATTACH;FMTTYPE=image/jpeg:https://www.worldbibleschool.net/wp-content/uploads/2023/07/Nashville-Dinner-scaled.jpeg
END:VEVENT
BEGIN:VEVENT
DTSTART;TZID=America/Chicago:20230911T183000
DTEND;TZID=America/Chicago:20230911T203000
DTSTAMP:20260420T145609
CREATED:20230425T190549Z
LAST-MODIFIED:20230710T175344Z
UID:34519-1694457000-1694464200@www.worldbibleschool.net
SUMMARY:Searcy WBS Benefit Dinner 2023
DESCRIPTION:
URL:https://www.worldbibleschool.net/eventdetail/searcy2023/
LOCATION:Harding University American Heritage Building\, Founders Room\, 915 E Market Ave\, Searcy\, AR\, 72143\, United States
CATEGORIES:WBS Dinner
ATTACH;FMTTYPE=image/jpeg:https://www.worldbibleschool.net/wp-content/uploads/2023/04/edited_IMG_2053-scaled.jpg
END:VEVENT
BEGIN:VEVENT
DTSTART;VALUE=DATE:20230827
DTEND;VALUE=DATE:20230828
DTSTAMP:20260420T145609
CREATED:20230719T161837Z
LAST-MODIFIED:20230719T161837Z
UID:35287-1693094400-1693180799@www.worldbibleschool.net
SUMMARY:WBS Presentation
DESCRIPTION:WBS Presentation on Sunday morning at the Lewis Street church of Christ in Little Rock\, AR
URL:https://www.worldbibleschool.net/eventdetail/wbs-presentation-18/
LOCATION:Lewis Street church of Christ\, 2716 Lewis Street\, Little Rock\, AR\, 72214\, United States
END:VEVENT
BEGIN:VEVENT
DTSTART;VALUE=DATE:20230813
DTEND;VALUE=DATE:20230814
DTSTAMP:20260420T145609
CREATED:20230719T161008Z
LAST-MODIFIED:20230719T161008Z
UID:35279-1691884800-1691971199@www.worldbibleschool.net
SUMMARY:WBS Presentation
DESCRIPTION:Sunday morning WBS presentation at the church of Christ in Dierks\, AR
URL:https://www.worldbibleschool.net/eventdetail/wbs-presentation-17/
LOCATION:Dierks church of Christ\, Dierks\, AR\, United States
END:VEVENT
BEGIN:VEVENT
DTSTART;TZID=America/Chicago:20230507T140000
DTEND;TZID=America/Chicago:20230507T160000
DTSTAMP:20260420T145609
CREATED:20230111T170354Z
LAST-MODIFIED:20230111T170534Z
UID:33760-1683468000-1683475200@www.worldbibleschool.net
SUMMARY:WBS Online Teaching Seminar in Clinton\, OK
DESCRIPTION:
URL:https://www.worldbibleschool.net/eventdetail/wbs-online-teaching-seminar-in-clinton-ok/
LOCATION:Custer Avenue church of Christ\, 2601 Custer Ave\, Clinton\, OK\, 73601\, United States
CATEGORIES:WBS Seminar
ATTACH;FMTTYPE=image/jpeg:https://www.worldbibleschool.net/wp-content/uploads/2023/01/custerAve.jpg
END:VEVENT
BEGIN:VEVENT
DTSTART;TZID=America/Chicago:20230129T170000
DTEND;TZID=America/Chicago:20230129T180000
DTSTAMP:20260420T145609
CREATED:20221229T161909Z
LAST-MODIFIED:20221229T161909Z
UID:33719-1675011600-1675015200@www.worldbibleschool.net
SUMMARY:Presentation in Cookeville\, TN
DESCRIPTION:
URL:https://www.worldbibleschool.net/eventdetail/presentation-in-cookeville-tn/
LOCATION:Sycamore church of Christ\, 1144 Crescent Dr.\, Cookeville\, TN\, 38501\, United States
CATEGORIES:WBS Presentation
ATTACH;FMTTYPE=image/jpeg:https://www.worldbibleschool.net/wp-content/uploads/2022/12/Sycamore.jpg
END:VEVENT
BEGIN:VEVENT
DTSTART;TZID=America/Chicago:20230115T090000
DTEND;TZID=America/Chicago:20230115T100000
DTSTAMP:20260420T145609
CREATED:20221208T194822Z
LAST-MODIFIED:20221208T194822Z
UID:33673-1673773200-1673776800@www.worldbibleschool.net
SUMMARY:Presentation in Garland\, TX
DESCRIPTION:
URL:https://www.worldbibleschool.net/eventdetail/presentation-in-garland-tx/
LOCATION:Buckingham Road church of Christ\, 3630 Buckingham Road\, Garland\, TX\, 75042\, United States
CATEGORIES:WBS Presentation
ATTACH;FMTTYPE=image/png:https://www.worldbibleschool.net/wp-content/uploads/2018/06/LogoIcon-1.png
END:VEVENT
BEGIN:VEVENT
DTSTART;TZID=America/Chicago:20230108T100000
DTEND;TZID=America/Chicago:20230108T130000
DTSTAMP:20260420T145609
CREATED:20230103T202031Z
LAST-MODIFIED:20230103T202031Z
UID:33731-1673172000-1673182800@www.worldbibleschool.net
SUMMARY:WBS Presentation & Workshop in Wichita Falls\, TX
DESCRIPTION:Jim will be speaking at the 10:00 worship service and will have a WBS Workshop beginning at noon. Please call to reserve a meal.
URL:https://www.worldbibleschool.net/eventdetail/wbs-presentation-workshop-in-wichita-falls-tx/
LOCATION:Edgemere church of Christ\, 4728 Neta Lane\, Wichita Falls\, TX\, 76302\, United States
CATEGORIES:WBS Presentation,WBS Seminar
ATTACH;FMTTYPE=image/jpeg:https://www.worldbibleschool.net/wp-content/uploads/2023/01/Edgemere.jpg
END:VEVENT
BEGIN:VEVENT
DTSTART;TZID=America/Chicago:20221120T140000
DTEND;TZID=America/Chicago:20221120T150000
DTSTAMP:20260420T145609
CREATED:20221027T022150Z
LAST-MODIFIED:20221027T022150Z
UID:33357-1668952800-1668956400@www.worldbibleschool.net
SUMMARY:WBS Seminar in Zanesville\, OH
DESCRIPTION:
URL:https://www.worldbibleschool.net/eventdetail/wbs-seminar-in-zanesville-oh/
LOCATION:Norval Park church of Christ\, 845 Arch Street\, Zanesville\, OH\, 43701\, United States
CATEGORIES:WBS Seminar
ATTACH;FMTTYPE=image/jpeg:https://www.worldbibleschool.net/wp-content/uploads/2022/03/NorvalPark.jpg
END:VEVENT
BEGIN:VEVENT
DTSTART;TZID=America/Chicago:20221110T183000
DTEND;TZID=America/Chicago:20221110T210000
DTSTAMP:20260420T145609
CREATED:20220727T183326Z
LAST-MODIFIED:20220727T183355Z
UID:30886-1668105000-1668114000@www.worldbibleschool.net
SUMMARY:WBS Benefit Dinner in Austin\, TX
DESCRIPTION:Join us to hear in person about 10\,000\,000 for Christ! \nSpeaker: Jeff Jenkins\nMinister\, Co-Owner of Jenkins Institute \nPlease RSVP at the website below by November 1.
URL:https://www.worldbibleschool.net/eventdetail/wbs-benefit-dinner-in-austin/
LOCATION:Westside church of Christ\, 3300 Ranch Road 1431\, Round Rock\, TX\, 78681\, United States
CATEGORIES:WBS Dinner
ATTACH;FMTTYPE=image/jpeg:https://www.worldbibleschool.net/wp-content/uploads/2021/08/westside-church-of-christ.jpg
ORGANIZER;CN="Pat Brown":MAILTO:pat@worldbibleschool.net
END:VEVENT
BEGIN:VEVENT
DTSTART;TZID=America/Chicago:20221006T183000
DTEND;TZID=America/Chicago:20221006T210000
DTSTAMP:20260420T145609
CREATED:20220727T182512Z
LAST-MODIFIED:20220727T182512Z
UID:30882-1665081000-1665090000@www.worldbibleschool.net
SUMMARY:WBS Benefit Dinner in Nashville\, TN
DESCRIPTION:Join us to hear in person about 10\,000\,000 for Christ! \nSpeaker: TJ Kirk\nVice President for Student Services\, Freed- Hardeman University \nPlease RSVP at the website below by September 26. \nIf you have any questions\, call us at 512-345-8190.
URL:https://www.worldbibleschool.net/eventdetail/wbs-benefit-dinner-in-nashville-tn/
LOCATION:Concord Road church of Christ\, 8221 Concord Rd\, Brentwood\, TX\, 37027\, United States
CATEGORIES:WBS Dinner
ATTACH;FMTTYPE=image/jpeg:https://www.worldbibleschool.net/wp-content/uploads/2022/07/Concord-Road.jpg
ORGANIZER;CN="Pat Brown":MAILTO:pat@worldbibleschool.net
END:VEVENT
BEGIN:VEVENT
DTSTART;TZID=America/Chicago:20220912T183000
DTEND;TZID=America/Chicago:20220912T210000
DTSTAMP:20260420T145609
CREATED:20220727T181737Z
LAST-MODIFIED:20220727T183807Z
UID:30872-1663007400-1663016400@www.worldbibleschool.net
SUMMARY:WBS Dinner in Searcy\, AR
DESCRIPTION:Join us to hear in person about 10\,000\,000 for Christ! \nSpeaker: Kyle Butt\nWriter\, Apologetics Press \nPlease RSVP at the website below by September 6. \nIf you have any questions\, call us at 512-345-8190
URL:https://www.worldbibleschool.net/eventdetail/wbs-dinner-in-searcy-ar/
LOCATION:Harding University\, American Heritage Bldg\, Founders Room\, 915 E Market Ave\, Searcy\, AR\, 72149\, United States
CATEGORIES:WBS Dinner
ATTACH;FMTTYPE=image/jpeg:https://www.worldbibleschool.net/wp-content/uploads/2022/07/Harding-FoundersRoom.jpg
ORGANIZER;CN="Pat Brown":MAILTO:pat@worldbibleschool.net
END:VEVENT
BEGIN:VEVENT
DTSTART;TZID=America/Chicago:20220830T183000
DTEND;TZID=America/Chicago:20220830T203000
DTSTAMP:20260420T145609
CREATED:20220727T160520Z
LAST-MODIFIED:20220727T160655Z
UID:30868-1661884200-1661891400@www.worldbibleschool.net
SUMMARY:WBS Benefit Dinner in Florence\, AL
DESCRIPTION:Join us to hear in person about 10\,000\,000 for Christ!\nSpeaker: Brian Rex Davis\nPresident\, World Bible School \nPlease RSVP at the website below by August 23. \nIf you have any questions\, call us at 512-345-8190.
URL:https://www.worldbibleschool.net/eventdetail/wbs-benefit-dinner-in-florence-al/
LOCATION:Florence Blvd. Church of Christ\, 2502 Florence Blvd.\, Florence\, AL\, 35630\, United States
CATEGORIES:WBS Dinner
ATTACH;FMTTYPE=image/jpeg:https://www.worldbibleschool.net/wp-content/uploads/2022/07/NorthRidge.jpg
ORGANIZER;CN="Pat Brown":MAILTO:pat@worldbibleschool.net
END:VEVENT
BEGIN:VEVENT
DTSTART;TZID=America/Chicago:20220821T090000
DTEND;TZID=America/Chicago:20220821T094500
DTSTAMP:20260420T145609
CREATED:20220728T161616Z
LAST-MODIFIED:20220812T000129Z
UID:30894-1661072400-1661075100@www.worldbibleschool.net
SUMMARY:WBS Presentation in Benton\, AR
DESCRIPTION:
URL:https://www.worldbibleschool.net/eventdetail/wbs-presentation-in-benton-ar/
LOCATION:Northside church of Christ\, 917 N. East Street\, Benton\, TX\, 72015\, United States
CATEGORIES:WBS Presentation
ATTACH;FMTTYPE=image/jpeg:https://www.worldbibleschool.net/wp-content/uploads/2022/07/NorthsideBenton.jpg
END:VEVENT
BEGIN:VEVENT
DTSTART;TZID=America/Chicago:20220717T100000
DTEND;TZID=America/Chicago:20220717T110000
DTSTAMP:20260420T145609
CREATED:20220512T141827Z
LAST-MODIFIED:20220512T141827Z
UID:30556-1658052000-1658055600@www.worldbibleschool.net
SUMMARY:WBS Presentation in Stigler\, OK
DESCRIPTION:
URL:https://www.worldbibleschool.net/eventdetail/wbs-presentation-in-stigler-ok/
LOCATION:Stigler church of Christ\, 502 SE A Street\, Stigler\, OK\, 74462\, United States
CATEGORIES:WBS Presentation
ATTACH;FMTTYPE=image/jpeg:https://www.worldbibleschool.net/wp-content/uploads/2022/05/Stigler.jpg
END:VEVENT
BEGIN:VEVENT
DTSTART;TZID=America/Chicago:20220626T093000
DTEND;TZID=America/Chicago:20220626T140000
DTSTAMP:20260420T145609
CREATED:20220316T163713Z
LAST-MODIFIED:20220316T163713Z
UID:30255-1656235800-1656252000@www.worldbibleschool.net
SUMMARY:WBS Class\, Presentation & Seminar in Alvin\, TX
DESCRIPTION:
URL:https://www.worldbibleschool.net/eventdetail/wbs-class-presentation-seminar-in-alvin-tx/
LOCATION:Westside church of Christ\, 831 Heights Road\, Alvin\, TX\, 77511\, United States
CATEGORIES:WBS Class,WBS Presentation,WBS Seminar
ATTACH;FMTTYPE=image/jpeg:https://www.worldbibleschool.net/wp-content/uploads/2022/03/Westside-cofC-Alvin-TX.jpg
END:VEVENT
END:VCALENDAR